{"text_format":"1","workbook":"xlsx","n_sheets":5,"sheets":["記入例","入力","請求書（業者用）","請求書（現場控用）","請求書（本社提出用）"],"not_rendered":{"charts":0,"images":0,"macros":1,"external_links":0,"defined_names":3,"comments":0,"pivot_tables":0},"unopened":[],"bounds":{"document_bytes":16777216,"sheet_cells":100000,"rows_first":2000,"rows_last":500,"rows_between":2000,"halvings":0,"cell_chars":16384,"cell_head_chars":4096},"cells_cut":0,"cells_raw":0,"read":"whole","date_system":"1900"}

{"sheet":"記入例","index":0,"n_rows":34,"n_cols":15,"rows_kept":34,"cut":false,"hidden":false,"merged":[[1,1,1,2],[1,3,1,4],[3,1,3,2],[3,3,3,4],[5,1,5,2],[5,3,5,6],[7,1,7,2],[7,3,7,4],[9,1,10,2],[10,3,10,7],[12,1,12,2],[12,3,12,6],[14,1,14,2],[14,3,14,6],[16,1,18,2],[16,3,16,4],[17,3,17,4],[18,3,18,4],[20,1,21,2],[20,3,21,4],[23,1,23,2],[23,4,23,6],[26,1,26,4],[26,5,27,5],[26,6,27,6],[26,9,26,10],[26,13,26,14],[27,3,27,4],[28,3,28,4],[29,3,29,4],[30,3,30,4],[31,3,31,4],[32,3,32,4],[33,3,33,4],[26,7,26,8]]}
[]
[null,"締切年月日",null,"2023-12-31"]
[]
[null,"作業所コード",null,123]
[]
[null,"作業所名",null,"〇〇〇作業所"]
[]
[null,"業者コード",null,1234]
[]
[null,"住所",null,"〒","123-4567",null,null,null,null,null,"記入箇所"]
[null,null,null,"大阪市福島区〇〇町1-1-1",null,null,null,null,null,null,"①締切日を入力してください"]
[null,null,null,null,null,null,null,null,null,null,"②作業所コードと作業所名を入力してください"]
[null,"会社名",null,"株式会社　〇〇建設",null,null,null,null,null,null,"③業者コード、住所、会社名、代表者名、電話番号を入力してください"]
[null,null,null,null,null,null,null,null,null,null,"④適正請求書発行事業者である場合は、「登録番号の有無」で「有り」を選択し"]
[null,"代表者名",null,"代表取締役　〇〇　太郎",null,null,null,null,null,null,"　　登録番号（13桁）を入力してください"]
[null,null,null,null,null,null,null,null,null,null,"⑤「転記実行」ボタンを押し、累計検収金額を****年**月**日迄検収金額欄へ転記し、"]
[null,"電話番号",null,"06",null,null,null,null,null,null,"　　今月検収金額を入力してください"]
[null,null,null,"1234"]
[null,null,null,"5678"]
[]
[null,"適格請求書発行事業者\n登録番号の有無",null,"有り"]
[]
[]
[null,"登録番号",null,"T",1234567890123,null,null,{"$f":"IF(AND(D21=\"有り\",E24=\"\"),\"←入力してください\",IF(AND(D21=\"有り\",LEN(E24)<>13),\"←13桁の数字を入力してください\",\"\"))","v":""}]
[]
[]
[null,"内　　　　　　　　　　　　　訳",null,null,null,"単位","単　　価","契約額",null,"累 計 検 収 金 額",null,"2023-03-31"," 迄 検 収 金 額","今 回 検 収 金 額"]
[null,"工種ｺｰﾄﾞ","工　　種","税　　率",null,null,null,"数　　量　","金　　　額","数　 量","金　　　額","数　 量","金　　　額","数　 量","金　　　額"]
[null,null,"別紙内訳書の通り",0.1,null,"式",null,null,null,1,{"$f":"IF(SUM(M29,O29)=0,\"\",SUM(M29,O29))","v":7000000},1,5000000,1,2000000]
[null,null,"別紙内訳書の通り",0.08,null,"式",null,null,null,1,{"$f":"IF(SUM(M30,O30)=0,\"\",SUM(M30,O30))","v":10000},null,null,1,10000]
[null,null,null,null,null,null,null,null,null,null,""]
[null,null,"消費税",0.1,null,"式",null,null,null,1,700000,1,500000,1,200000]
[null,null,"消費税","8％（軽）",null,"式",null,null,null,1,800,null,null,1,800]
[null,null,"計",null,null,null,null,null,{"$f":"IF(SUM(I29:I33)=0,\"\",SUM(I29:I33))","v":""},null,{"$f":"IF(SUM(K29:K33)=0,\"\",SUM(K29:K33))","v":7710800},null,{"$f":"IF(SUM(M29:M33)=0,\"\",SUM(M29:M33))","v":5500000},null,{"$f":"IF(SUM(O29:O33)=0,\"\",SUM(O29:O33))","v":2210800}]

{"sheet":"入力","index":1,"n_rows":34,"n_cols":15,"rows_kept":34,"cut":false,"hidden":false,"merged":[[3,1,3,2],[1,1,1,2],[20,3,21,4],[12,1,12,2],[9,1,10,2],[7,1,7,2],[5,1,5,2],[20,1,21,2],[16,1,18,2],[1,3,1,4],[3,3,3,4],[5,3,5,6],[7,3,7,4],[10,3,10,7],[12,3,12,6],[23,1,23,2],[14,1,14,2],[32,3,32,4],[33,3,33,4],[26,1,26,4],[27,3,27,4],[28,3,28,4],[31,3,31,4],[29,3,29,4],[30,3,30,4],[23,4,23,6],[14,3,14,6],[16,3,16,4],[17,3,17,4],[18,3,18,4],[26,13,26,14],[26,9,26,10],[26,5,27,5],[26,6,27,6],[26,7,26,8]]}
[]
[null,"締切年月日"]
[]
[null,"作業所コード"]
[]
[null,"作業所名"]
[]
[null,"業者コード"]
[]
[null,"住所",null,"〒",null,null,null,null,null,null,"記入箇所"]
[null,null,null,null,null,null,null,null,null,null,"①締切日を入力してください"]
[null,null,null,null,null,null,null,null,null,null,"②作業所コードと作業所名を入力してください"]
[null,"会社名",null,null,null,null,null,null,null,null,"③業者コード、住所、会社名、代表者名、電話番号を入力してください"]
[null,null,null,null,null,null,null,null,null,null,"④適正請求書発行事業者である場合は、「登録番号の有無」で「有り」を選択し"]
[null,"代表者名",null,null,null,null,null,null,null,null,"　　登録番号（13桁）を入力してください"]
[null,null,null,null,null,null,null,null,null,null,"⑤「転記実行」ボタンを押し、累計検収金額を****年**月**日迄検収金額欄へ転記し、"]
[null,"電話番号",null,null,null,null,null,null,null,null,"　　今月検収金額を入力してください"]
[]
[]
[]
[null,"適格請求書発行事業者\n登録番号の有無"]
[]
[]
[null,"登録番号",null,"T",null,null,null,{"$f":"IF(AND(D21=\"有り\",E24=\"\"),\"←入力してください\",IF(AND(D21=\"有り\",LEN(E24)<>13),\"←13桁の数字を入力してください\",\"\"))","v":""}]
[]
[]
[null,"内　　　　　　　　　　　　　訳",null,null,null,"単位","単　　価","契約額",null,"累 計 検 収 金 額",null,null," 迄 検 収 金 額","今 回 検 収 金 額"]
[null,"工種ｺｰﾄﾞ","工　　種","税　　率",null,null,null,"数　　量　","金　　　額","数　 量","金　　　額","数　 量","金　　　額","数　 量","金　　　額"]
[null,null,"別紙内訳書の通り",0.1,null,"式",null,null,null,1,{"$f":"IF(SUM(M29,O29)=0,\"\",SUM(M29,O29))","v":""},1,null,1]
[null,null,"別紙内訳書の通り",0.08,null,"式",null,null,null,1,{"$f":"IF(SUM(M30,O30)=0,\"\",SUM(M30,O30))","v":""},1,null,1]
[null,null,null,null,null,null,null,null,null,null,{"$f":"IF(SUM(M31,O31)=0,\"\",SUM(M31,O31))","v":""}]
[null,null,"消費税",0.1,null,"式",null,null,null,1,"",1,null,1]
[null,null,"消費税","8％（軽）",null,"式",null,null,null,1,"",1,null,1]
[null,null,"計",null,null,null,null,null,{"$f":"IF(SUM(I29:I33)=0,\"\",SUM(I29:I33))","v":""},null,{"$f":"IF(SUM(K29:K33)=0,\"\",SUM(K29:K33))","v":""},null,{"$f":"IF(SUM(M29:M33)=0,\"\",SUM(M29:M33))","v":""},null,{"$f":"IF(SUM(O29:O33)=0,\"\",SUM(O29:O33))","v":""}]

{"sheet":"請求書（業者用）","index":2,"n_rows":43,"n_cols":65,"rows_kept":43,"cut":false,"hidden":false,"merged":[[35,51,35,55],[36,51,36,55],[37,51,37,55],[38,51,38,55],[10,51,10,64],[31,51,31,64],[32,51,32,55],[33,51,33,55],[34,51,34,55],[25,58,25,60],[16,62,16,63],[16,52,16,53],[16,54,16,55],[16,56,16,57],[16,58,16,59],[33,4,33,8],[23,10,24,10],[23,15,24,15],[23,14,24,14],[23,13,24,13],[23,11,24,11],[23,12,24,12],[26,2,26,8],[34,27,34,29],[38,4,38,8],[38,9,38,11],[38,13,38,14],[38,15,38,17],[38,27,38,29],[34,4,34,8],[34,9,34,11],[34,13,34,14],[34,15,34,17],[38,39,38,41],[37,4,37,8],[37,9,37,11],[37,13,37,14],[37,15,37,17],[37,27,37,29],[37,39,37,41],[36,39,36,41],[35,4,35,8],[35,9,35,11],[35,13,35,14],[35,15,35,17],[35,27,35,29],[35,39,35,41],[36,4,36,8],[36,9,36,11],[36,13,36,14],[36,15,36,17],[36,27,36,29],[33,27,33,29],[33,15,33,17],[32,4,32,8],[32,9,32,11],[31,0,31,11],[31,12,32,12],[31,15,31,26],[31,27,31,38],[32,18,32,26],[32,27,32,29],[32,30,32,38],[32,0,32,3],[32,15,32,17],[31,13,32,14],[33,13,33,14],[33,9,33,11],[33,39,33,41],[32,56,32,64],[34,39,34,41],[32,39,32,41],[32,42,32,50],[31,42,31,43],[31,44,31,50],[16,46,16,47],[16,48,16,49],[16,50,16,51],[18,42,18,43],[23,39,23,60],[25,39,25,57],[18,2,19,8],[7,1,8,17],[28,1,29,11],[16,60,16,61],[16,42,16,43],[16,44,16,45],[11,1,12,13],[16,2,16,8],[14,45,14,46],[23,9,24,9],[25,2,25,8],[23,2,24,8],[23,17,24,17],[23,16,24,16],[18,9,19,26],[21,39,21,63]]}
[]
[]
[]
[null,"業　者　用"]
[]
[]
[]
[null,"請求書"]
[]
[]
[null,null,null,null,null,null,null,null,null,null,null,null,null,null,null,null,null,null,null,null,null,null,null,null,null,null,null,null,null,null,null,null,null,null,null,null,null,null,null,null,null,null,null,null,null,null,null,null,null,null,null,{"$f":"入力!D2","v":"00:00:00"}]
[null,"株式会社 冨島建設  御中"]
[]
[null,null,null,null,null,null,null,null,null,null,null,null,null,null,null,null,null,null,null,null,null,null,null,null,null,null,null,null,null,null,null,"適格請求書発行事業者登録番号の有無"]
[null,null,"下記の通り請求いたします。",null,null,null,null,null,null,null,null,null,null,null,null,null,null,null,null,null,null,null,null,null,null,null,null,null,null,null,null,null,null,null,null,null,null,null,null,{"$f":"IF(入力!D21=\"有り\",\"■\",\"□\")","v":"□"},"有り",null,null,null,null,{"$f":"IF(入力!D21=\"無し\",\"■\",\"□\")","v":"□"},null,"無し"]
[]
[null,null,"作業所コード",null,null,null,null,null,null,{"$f":"IF(入力!D4=\"\",\"\",MID(入力!D4,1,1))","v":""},{"$f":"IF(入力!D4=\"\",\"\",MID(入力!D4,2,1))","v":""},{"$f":"IF(入力!D4=\"\",\"\",MID(入力!D4,3,1))","v":""},null,null,null,null,null,null,null,null,null,null,null,null,null,null,null,null,null,null,null,"登録番号",null,null,null,null,null,null,null,"T",{"$f":"IF(入力!E24=\"\",\"\",MID(入力!E24,1,1))","v":""},{"$f":"IF(入力!E24=\"\",\"\",MID(入力!E24,2,1))","v":""},{"$f":"IF(入力!E24=\"\",\"\",MID(入力!E24,3,1))","v":""},null,{"$f":"IF(入力!E24=\"\",\"\",MID(入力!E24,4,1))","v":""},null,{"$f":"IF(入力!E24=\"\",\"\",MID(入力!E24,5,1))","v":""},null,{"$f":"IF(入力!E24=\"\",\"\",MID(入力!E24,6,1))","v":""},null,{"$f":"IF(入力!E24=\"\",\"\",MID(入力!E24,7,1))","v":""},null,{"$f":"IF(入力!E24=\"\",\"\",MID(入力!E24,8,1))","v":""},null,{"$f":"IF(入力!E24=\"\",\"\",MID(入力!E24,9,1))","v":""},null,{"$f":"IF(入力!E24=\"\",\"\",MID(入力!E24,10,1))","v":""},null,{"$f":"IF(入力!E24=\"\",\"\",MID(入力!E24,11,1))","v":""},null,{"$f":"IF(入力!E24=\"\",\"\",MID(入力!E24,12,1))","v":""},null,{"$f":"IF(入力!E24=\"\",\"\",MID(入力!E24,13,1))","v":""}]
[]
[null,null,"作業所名",null,null,null,null,null,null,{"$f":"IF(入力!D6=\"\",\"\",入力!D6)","v":""},null,null,null,null,null,null,null,null,null,null,null,null,null,null,null,null,null,null,null,null,null,"業者コード",null,null,null,null,null,null,null,{"$f":"IF(入力!D8=\"\",\"\",MID(入力!D8,1,1))","v":""},{"$f":"IF(入力!D8=\"\",\"\",MID(入力!D8,2,1))","v":""},{"$f":"IF(入力!D8=\"\",\"\",MID(入力!D8,3,1))","v":""},{"$f":"IF(入力!D8=\"\",\"\",MID(入力!D8,4,1))","v":""}]
[]
[null,null,null,null,null,null,null,null,null,null,null,null,null,null,null,null,null,null,null,null,null,null,null,null,null,null,null,null,null,null,null,"住　　所",null,null,null,null,null,null,null,{"$f":"IF(入力!E10=\"\",\"〒　　　-　　　\",\"〒\"&入力!E10)","v":"〒　　　-　　　"}]
[null,null,null,null,null,null,null,null,null,null,null,null,null,null,null,null,null,null,null,null,null,null,null,null,null,null,null,null,null,null,null,null,null,null,null,null,null,null,null,{"$f":"IF(入力!D11=\"\",\"\",入力!D11)","v":""}]
[]
[null,null,"請求金額",null,null,null,null,null,null,{"$f":"IF(OR(入力!O34=\"\",LEN(入力!O34)<8),\"\",IF(LEN(入力!O34)=8,\"\\\",MID(入力!O34,LEN(入力!O34)-8,1)))","v":""},{"$f":"IF(OR(入力!O34=\"\",LEN(入力!O34)<7),\"\",IF(LEN(入力!O34)=7,\"\\\",MID(入力!O34,LEN(入力!O34)-7,1)))","v":""},{"$f":"IF(OR(入力!O34=\"\",LEN(入力!O34)<6),\"\",IF(LEN(入力!O34)=6,\"\\\",MID(入力!O34,LEN(入力!O34)-6,1)))","v":""},{"$f":"IF(OR(入力!O34=\"\",LEN(入力!O34)<5),\"\",IF(LEN(入力!O34)=5,\"\\\",MID(入力!O34,LEN(入力!O34)-5,1)))","v":""},{"$f":"IF(OR(入力!O34=\"\",LEN(入力!O34)<4),\"\",IF(LEN(入力!O34)=4,\"\\\",MID(入力!O34,LEN(入力!O34)-4,1)))","v":""},{"$f":"IF(OR(入力!O34=\"\",LEN(入力!O34)<3),\"\",IF(LEN(入力!O34)=3,\"\\\",MID(入力!O34,LEN(入力!O34)-3,1)))","v":""},{"$f":"IF(OR(入力!O34=\"\",LEN(入力!O34)<2),\"\",IF(LEN(入力!O34)=2,\"\\\",MID(入力!O34,LEN(入力!O34)-2,1)))","v":""},{"$f":"IF(OR(入力!O34=\"\",LEN(入力!O34)<1),\"\",IF(LEN(入力!O34)=1,\"\\\",MID(入力!O34,LEN(入力!O34)-1,1)))","v":""},{"$f":"IF(LEN(入力!O34)<1,\"\",MID(入力!O34,LEN(入力!O34),1))","v":""},null,null,null,null,null,null,null,null,null,null,null,null,null,"会 社 名",null,null,null,null,null,null,null,{"$f":"IF(入力!D13=\"\",\"\",入力!D13)","v":""}]
[]
[null,null,"うち消費税10％",null,null,null,null,null,null,{"$f":"IF(OR(入力!O32=\"\",LEN(入力!O32)<8),\"\",IF(LEN(入力!O32)=8,\"\\\",MID(入力!O32,LEN(入力!O32)-8,1)))","v":""},{"$f":"IF(OR(入力!O32=\"\",LEN(入力!O32)<7),\"\",IF(LEN(入力!O32)=7,\"\\\",MID(入力!O32,LEN(入力!O32)-7,1)))","v":""},{"$f":"IF(OR(入力!O32=\"\",LEN(入力!O32)<6),\"\",IF(LEN(入力!O32)=6,\"\\\",MID(入力!O32,LEN(入力!O32)-6,1)))","v":""},{"$f":"IF(OR(入力!O32=\"\",LEN(入力!O32)<5),\"\",IF(LEN(入力!O32)=5,\"\\\",MID(入力!O32,LEN(入力!O32)-5,1)))","v":""},{"$f":"IF(OR(入力!O32=\"\",LEN(入力!O32)<4),\"\",IF(LEN(入力!O32)=4,\"\\\",MID(入力!O32,LEN(入力!O32)-4,1)))","v":""},{"$f":"IF(OR(入力!O32=\"\",LEN(入力!O32)<3),\"\",IF(LEN(入力!O32)=3,\"\\\",MID(入力!O32,LEN(入力!O32)-3,1)))","v":""},{"$f":"IF(OR(入力!O32=\"\",LEN(入力!O32)<2),\"\",IF(LEN(入力!O32)=2,\"\\\",MID(入力!O32,LEN(入力!O32)-2,1)))","v":""},{"$f":"IF(OR(入力!O32=\"\",LEN(入力!O32)<1),\"\",IF(LEN(入力!O32)=1,\"\\\",MID(入力!O32,LEN(入力!O32)-1,1)))","v":""},{"$f":"IF(LEN(入力!O32)<1,\"\",MID(入力!O32,LEN(入力!O32),1))","v":""},null,null,null,null,null,null,null,null,null,null,null,null,null,"代表者名",null,null,null,null,null,null,null,{"$f":"IF(入力!D15=\"\",\"\",入力!D15)","v":""},null,null,null,null,null,null,null,null,null,null,null,null,null,null,null,null,null,null,"㊞"]
[null,null,"うち軽減税率8％",null,null,null,null,null,null,{"$f":"IF(OR(入力!O33=\"\",LEN(入力!O33)<8),\"\",IF(LEN(入力!O33)=8,\"\\\",MID(入力!O33,LEN(入力!O33)-8,1)))","v":""},{"$f":"IF(OR(入力!O33=\"\",LEN(入力!O33)<7),\"\",IF(LEN(入力!O33)=7,\"\\\",MID(入力!O33,LEN(入力!O33)-7,1)))","v":""},{"$f":"IF(OR(入力!O33=\"\",LEN(入力!O33)<6),\"\",IF(LEN(入力!O33)=6,\"\\\",MID(入力!O33,LEN(入力!O33)-6,1)))","v":""},{"$f":"IF(OR(入力!O33=\"\",LEN(入力!O33)<5),\"\",IF(LEN(入力!O33)=5,\"\\\",MID(入力!O33,LEN(入力!O33)-5,1)))","v":""},{"$f":"IF(OR(入力!O33=\"\",LEN(入力!O33)<4),\"\",IF(LEN(入力!O33)=4,\"\\\",MID(入力!O33,LEN(入力!O33)-4,1)))","v":""},{"$f":"IF(OR(入力!O33=\"\",LEN(入力!O33)<3),\"\",IF(LEN(入力!O33)=3,\"\\\",MID(入力!O33,LEN(入力!O33)-3,1)))","v":""},{"$f":"IF(OR(入力!O33=\"\",LEN(入力!O33)<2),\"\",IF(LEN(入力!O33)=2,\"\\\",MID(入力!O33,LEN(入力!O33)-2,1)))","v":""},{"$f":"IF(OR(入力!O33=\"\",LEN(入力!O33)<1),\"\",IF(LEN(入力!O33)=1,\"\\\",MID(入力!O33,LEN(入力!O33)-1,1)))","v":""},{"$f":"IF(LEN(入力!O33)<1,\"\",MID(入力!O33,LEN(入力!O33),1))","v":""},null,null,null,null,null,null,null,null,null,null,null,null,null,"電　　話",null,null,null,null,null,null,null,{"$f":"IF(COUNTA(入力!D17:E19)=0,\"(　　　) 　　　　 -　　　　 \",\"（\"&入力!D17&\"）\"&入力!D18&\"　-　\"&入力!D19)","v":"(　　　) 　　　　 -　　　　 "}]
[]
[null,"内訳書"]
[]
[]
["内　　　　　　　　　訳",null,null,null,null,null,null,null,null,null,null,null,"単位","単価",null,"契　　約　　額",null,null,null,null,null,null,null,null,null,null,null,"累　計　検　収　金　額",null,null,null,null,null,null,null,null,null,null,null,null,{"$f":"IF(入力!L27=\"\",\"\",MONTH(入力!L27))","v":""},"月",{"$f":"IF(入力!L27=\"\",\"\",DAY(入力!L27))","v":""},null,"日 迄検収金額",null,null,null,null,null,null,"今　回　検　収　金　額"]
["工種コード",null,null,null,"工　　種",null,null,null,null,"税　率",null,null,null,null,null,"数　量",null,null,"金　　　　額",null,null,null,null,null,null,null,null,"数　量",null,null,"金　　　　額",null,null,null,null,null,null,null,null,"数　量",null,null,"金　　　　額",null,null,null,null,null,null,null,null,"数　量",null,null,null,null,"金　　　　額"]
[{"$f":"IF(LEN(入力!B29)<4,\"\",LEFT(RIGHT(入力!B29,4),1))","v":""},{"$f":"IF(LEN(入力!B29)<3,\"\",LEFT(RIGHT(入力!B29,3),1))","v":""},{"$f":"IF(LEN(入力!B29)<2,\"\",LEFT(RIGHT(入力!B29,2),1))","v":""},{"$f":"IF(LEN(入力!B29)<1,\"\",LEFT(RIGHT(入力!B29,1),1))","v":""},{"$f":"IF(入力!C29=0,\"\",入力!C29)","v":"別紙内訳書の通り"},null,null,null,null,{"$f":"IF(入力!D29=0,\"\",入力!D29)","v":0.1},null,null,{"$f":"IF(入力!F29=0,\"\",入力!F29)","v":"式"},{"$f":"IF(入力!G29=0,\"\",入力!G29)","v":""},null,{"$f":"IF(入力!H29=0,\"\",入力!H29)","v":""},null,null,{"$f":"IF(LEN(入力!I29)<9,\"\",LEFT(RIGHT(入力!I29,9),1))","v":""},{"$f":"IF(LEN(入力!I29)<8,\"\",LEFT(RIGHT(入力!I29,8),1))","v":""},{"$f":"IF(LEN(入力!I29)<7,\"\",LEFT(RIGHT(入力!I29,7),1))","v":""},{"$f":"IF(LEN(入力!I29)<6,\"\",LEFT(RIGHT(入力!I29,6),1))","v":""},{"$f":"IF(LEN(入力!I29)<5,\"\",LEFT(RIGHT(入力!I29,5),1))","v":""},{"$f":"IF(LEN(入力!I29)<4,\"\",LEFT(RIGHT(入力!I29,4),1))","v":""},{"$f":"IF(LEN(入力!I29)<3,\"\",LEFT(RIGHT(入力!I29,3),1))","v":""},{"$f":"IF(LEN(入力!I29)<2,\"\",LEFT(RIGHT(入力!I29,2),1))","v":""},{"$f":"IF(LEN(入力!I29)<1,\"\",LEFT(RIGHT(入力!I29,1),1))","v":""},{"$f":"IF(入力!J29=0,\"\",入力!J29)","v":1},null,null,{"$f":"IF(LEN(入力!K29)<9,\"\",LEFT(RIGHT(入力!K29,9),1))","v":""},{"$f":"IF(LEN(入力!K29)<8,\"\",LEFT(RIGHT(入力!K29,8),1))","v":""},{"$f":"IF(LEN(入力!K29)<7,\"\",LEFT(RIGHT(入力!K29,7),1))","v":""},{"$f":"IF(LEN(入力!K29)<6,\"\",LEFT(RIGHT(入力!K29,6),1))","v":""},{"$f":"IF(LEN(入力!K29)<5,\"\",LEFT(RIGHT(入力!K29,5),1))","v":""},{"$f":"IF(LEN(入力!K29)<4,\"\",LEFT(RIGHT(入力!K29,4),1))","v":""},{"$f":"IF(LEN(入力!K29)<3,\"\",LEFT(RIGHT(入力!K29,3),1))","v":""},{"$f":"IF(LEN(入力!K29)<2,\"\",LEFT(RIGHT(入力!K29,2),1))","v":""},{"$f":"IF(LEN(入力!K29)<1,\"\",LEFT(RIGHT(入力!K29,1),1))","v":""},{"$f":"IF(入力!L29=0,\"\",入力!L29)","v":1},null,null,{"$f":"IF(LEN(入力!M29)<9,\"\",LEFT(RIGHT(入力!M29,9),1))","v":""},{"$f":"IF(LEN(入力!M29)<8,\"\",LEFT(RIGHT(入力!M29,8),1))","v":""},{"$f":"IF(LEN(入力!M29)<7,\"\",LEFT(RIGHT(入力!M29,7),1))","v":""},{"$f":"IF(LEN(入力!M29)<6,\"\",LEFT(RIGHT(入力!M29,6),1))","v":""},{"$f":"IF(LEN(入力!M29)<5,\"\",LEFT(RIGHT(入力!M29,5),1))","v":""},{"$f":"IF(LEN(入力!M29)<4,\"\",LEFT(RIGHT(入力!M29,4),1))","v":""},{"$f":"IF(LEN(入力!M29)<3,\"\",LEFT(RIGHT(入力!M29,3),1))","v":""},{"$f":"IF(LEN(入力!M29)<2,\"\",LEFT(RIGHT(入力!M29,2),1))","v":""},{"$f":"IF(LEN(入力!M29)<1,\"\",LEFT(RIGHT(入力!M29,1),1))","v":""},{"$f":"IF(入力!N29=0,\"\",入力!N29)","v":1},null,null,null,null,{"$f":"IF(LEN(入力!O29)<9,\"\",LEFT(RIGHT(入力!O29,9),1))","v":""},{"$f":"IF(LEN(入力!O29)<8,\"\",LEFT(RIGHT(入力!O29,8),1))","v":""},{"$f":"IF(LEN(入力!O29)<7,\"\",LEFT(RIGHT(入力!O29,7),1))","v":""},{"$f":"IF(LEN(入力!O29)<6,\"\",LEFT(RIGHT(入力!O29,6),1))","v":""},{"$f":"IF(LEN(入力!O29)<5,\"\",LEFT(RIGHT(入力!O29,5),1))","v":""},{"$f":"IF(LEN(入力!O29)<4,\"\",LEFT(RIGHT(入力!O29,4),1))","v":""},{"$f":"IF(LEN(入力!O29)<3,\"\",LEFT(RIGHT(入力!O29,3),1))","v":""},{"$f":"IF(LEN(入力!O29)<2,\"\",LEFT(RIGHT(入力!O29,2),1))","v":""},{"$f":"IF(LEN(入力!O29)<1,\"\",LEFT(RIGHT(入力!O29,1),1))","v":""}]
[{"$f":"IF(LEN(入力!B30)<4,\"\",LEFT(RIGHT(入力!B30,4),1))","v":""},{"$f":"IF(LEN(入力!B30)<3,\"\",LEFT(RIGHT(入力!B30,3),1))","v":""},{"$f":"IF(LEN(入力!B30)<2,\"\",LEFT(RIGHT(入力!B30,2),1))","v":""},{"$f":"IF(LEN(入力!B30)<1,\"\",LEFT(RIGHT(入力!B30,1),1))","v":""},{"$f":"IF(入力!C30=0,\"\",入力!C30)","v":"別紙内訳書の通り"},null,null,null,null,{"$f":"IF(入力!D30=0,\"\",入力!D30)","v":0.08},null,null,{"$f":"IF(入力!F30=0,\"\",入力!F30)","v":"式"},{"$f":"IF(入力!G30=0,\"\",入力!G30)","v":""},null,{"$f":"IF(入力!H30=0,\"\",入力!H30)","v":""},null,null,{"$f":"IF(LEN(入力!I30)<9,\"\",LEFT(RIGHT(入力!I30,9),1))","v":""},{"$f":"IF(LEN(入力!I30)<8,\"\",LEFT(RIGHT(入力!I30,8),1))","v":""},{"$f":"IF(LEN(入力!I30)<7,\"\",LEFT(RIGHT(入力!I30,7),1))","v":""},{"$f":"IF(LEN(入力!I30)<6,\"\",LEFT(RIGHT(入力!I30,6),1))","v":""},{"$f":"IF(LEN(入力!I30)<5,\"\",LEFT(RIGHT(入力!I30,5),1))","v":""},{"$f":"IF(LEN(入力!I30)<4,\"\",LEFT(RIGHT(入力!I30,4),1))","v":""},{"$f":"IF(LEN(入力!I30)<3,\"\",LEFT(RIGHT(入力!I30,3),1))","v":""},{"$f":"IF(LEN(入力!I30)<2,\"\",LEFT(RIGHT(入力!I30,2),1))","v":""},{"$f":"IF(LEN(入力!I30)<1,\"\",LEFT(RIGHT(入力!I30,1),1))","v":""},{"$f":"IF(入力!J30=0,\"\",入力!J30)","v":1},null,null,{"$f":"IF(LEN(入力!K30)<9,\"\",LEFT(RIGHT(入力!K30,9),1))","v":""},{"$f":"IF(LEN(入力!K30)<8,\"\",LEFT(RIGHT(入力!K30,8),1))","v":""},{"$f":"IF(LEN(入力!K30)<7,\"\",LEFT(RIGHT(入力!K30,7),1))","v":""},{"$f":"IF(LEN(入力!K30)<6,\"\",LEFT(RIGHT(入力!K30,6),1))","v":""},{"$f":"IF(LEN(入力!K30)<5,\"\",LEFT(RIGHT(入力!K30,5),1))","v":""},{"$f":"IF(LEN(入力!K30)<4,\"\",LEFT(RIGHT(入力!K30,4),1))","v":""},{"$f":"IF(LEN(入力!K30)<3,\"\",LEFT(RIGHT(入力!K30,3),1))","v":""},{"$f":"IF(LEN(入力!K30)<2,\"\",LEFT(RIGHT(入力!K30,2),1))","v":""},{"$f":"IF(LEN(入力!K30)<1,\"\",LEFT(RIGHT(入力!K30,1),1))","v":""},{"$f":"IF(入力!L30=0,\"\",入力!L30)","v":1},null,null,{"$f":"IF(LEN(入力!M30)<9,\"\",LEFT(RIGHT(入力!M30,9),1))","v":""},{"$f":"IF(LEN(入力!M30)<8,\"\",LEFT(RIGHT(入力!M30,8),1))","v":""},{"$f":"IF(LEN(入力!M30)<7,\"\",LEFT(RIGHT(入力!M30,7),1))","v":""},{"$f":"IF(LEN(入力!M30)<6,\"\",LEFT(RIGHT(入力!M30,6),1))","v":""},{"$f":"IF(LEN(入力!M30)<5,\"\",LEFT(RIGHT(入力!M30,5),1))","v":""},{"$f":"IF(LEN(入力!M30)<4,\"\",LEFT(RIGHT(入力!M30,4),1))","v":""},{"$f":"IF(LEN(入力!M30)<3,\"\",LEFT(RIGHT(入力!M30,3),1))","v":""},{"$f":"IF(LEN(入力!M30)<2,\"\",LEFT(RIGHT(入力!M30,2),1))","v":""},{"$f":"IF(LEN(入力!M30)<1,\"\",LEFT(RIGHT(入力!M30,1),1))","v":""},{"$f":"IF(入力!N30=0,\"\",入力!N30)","v":1},null,null,null,null,{"$f":"IF(LEN(入力!O30)<9,\"\",LEFT(RIGHT(入力!O30,9),1))","v":""},{"$f":"IF(LEN(入力!O30)<8,\"\",LEFT(RIGHT(入力!O30,8),1))","v":""},{"$f":"IF(LEN(入力!O30)<7,\"\",LEFT(RIGHT(入力!O30,7),1))","v":""},{"$f":"IF(LEN(入力!O30)<6,\"\",LEFT(RIGHT(入力!O30,6),1))","v":""},{"$f":"IF(LEN(入力!O30)<5,\"\",LEFT(RIGHT(入力!O30,5),1))","v":""},{"$f":"IF(LEN(入力!O30)<4,\"\",LEFT(RIGHT(入力!O30,4),1))","v":""},{"$f":"IF(LEN(入力!O30)<3,\"\",LEFT(RIGHT(入力!O30,3),1))","v":""},{"$f":"IF(LEN(入力!O30)<2,\"\",LEFT(RIGHT(入力!O30,2),1))","v":""},{"$f":"IF(LEN(入力!O30)<1,\"\",LEFT(RIGHT(入力!O30,1),1))","v":""}]
[{"$f":"IF(LEN(入力!B31)<4,\"\",LEFT(RIGHT(入力!B31,4),1))","v":""},{"$f":"IF(LEN(入力!B31)<3,\"\",LEFT(RIGHT(入力!B31,3),1))","v":""},{"$f":"IF(LEN(入力!B31)<2,\"\",LEFT(RIGHT(入力!B31,2),1))","v":""},{"$f":"IF(LEN(入力!B31)<1,\"\",LEFT(RIGHT(入力!B31,1),1))","v":""},{"$f":"IF(入力!C31=0,\"\",入力!C31)","v":""},null,null,null,null,{"$f":"IF(入力!D31=0,\"\",入力!D31)","v":""},null,null,{"$f":"IF(入力!F31=0,\"\",入力!F31)","v":""},{"$f":"IF(入力!G31=0,\"\",入力!G31)","v":""},null,{"$f":"IF(入力!H31=0,\"\",入力!H31)","v":""},null,null,{"$f":"IF(LEN(入力!I31)<9,\"\",LEFT(RIGHT(入力!I31,9),1))","v":""},{"$f":"IF(LEN(入力!I31)<8,\"\",LEFT(RIGHT(入力!I31,8),1))","v":""},{"$f":"IF(LEN(入力!I31)<7,\"\",LEFT(RIGHT(入力!I31,7),1))","v":""},{"$f":"IF(LEN(入力!I31)<6,\"\",LEFT(RIGHT(入力!I31,6),1))","v":""},{"$f":"IF(LEN(入力!I31)<5,\"\",LEFT(RIGHT(入力!I31,5),1))","v":""},{"$f":"IF(LEN(入力!I31)<4,\"\",LEFT(RIGHT(入力!I31,4),1))","v":""},{"$f":"IF(LEN(入力!I31)<3,\"\",LEFT(RIGHT(入力!I31,3),1))","v":""},{"$f":"IF(LEN(入力!I31)<2,\"\",LEFT(RIGHT(入力!I31,2),1))","v":""},{"$f":"IF(LEN(入力!I31)<1,\"\",LEFT(RIGHT(入力!I31,1),1))","v":""},{"$f":"IF(入力!J31=0,\"\",入力!J31)","v":""},null,null,{"$f":"IF(LEN(入力!K31)<9,\"\",LEFT(RIGHT(入力!K31,9),1))","v":""},{"$f":"IF(LEN(入力!K31)<8,\"\",LEFT(RIGHT(入力!K31,8),1))","v":""},{"$f":"IF(LEN(入力!K31)<7,\"\",LEFT(RIGHT(入力!K31,7),1))","v":""},{"$f":"IF(LEN(入力!K31)<6,\"\",LEFT(RIGHT(入力!K31,6),1))","v":""},{"$f":"IF(LEN(入力!K31)<5,\"\",LEFT(RIGHT(入力!K31,5),1))","v":""},{"$f":"IF(LEN(入力!K31)<4,\"\",LEFT(RIGHT(入力!K31,4),1))","v":""},{"$f":"IF(LEN(入力!K31)<3,\"\",LEFT(RIGHT(入力!K31,3),1))","v":""},{"$f":"IF(LEN(入力!K31)<2,\"\",LEFT(RIGHT(入力!K31,2),1))","v":""},{"$f":"IF(LEN(入力!K31)<1,\"\",LEFT(RIGHT(入力!K31,1),1))","v":""},{"$f":"IF(入力!L31=0,\"\",入力!L31)","v":""},null,null,{"$f":"IF(LEN(入力!M31)<9,\"\",LEFT(RIGHT(入力!M31,9),1))","v":""},{"$f":"IF(LEN(入力!M31)<8,\"\",LEFT(RIGHT(入力!M31,8),1))","v":""},{"$f":"IF(LEN(入力!M31)<7,\"\",LEFT(RIGHT(入力!M31,7),1))","v":""},{"$f":"IF(LEN(入力!M31)<6,\"\",LEFT(RIGHT(入力!M31,6),1))","v":""},{"$f":"IF(LEN(入力!M31)<5,\"\",LEFT(RIGHT(入力!M31,5),1))","v":""},{"$f":"IF(LEN(入力!M31)<4,\"\",LEFT(RIGHT(入力!M31,4),1))","v":""},{"$f":"IF(LEN(入力!M31)<3,\"\",LEFT(RIGHT(入力!M31,3),1))","v":""},{"$f":"IF(LEN(入力!M31)<2,\"\",LEFT(RIGHT(入力!M31,2),1))","v":""},{"$f":"IF(LEN(入力!M31)<1,\"\",LEFT(RIGHT(入力!M31,1),1))","v":""},{"$f":"IF(入力!N31=0,\"\",入力!N31)","v":""},null,null,null,null,{"$f":"IF(LEN(入力!O31)<9,\"\",LEFT(RIGHT(入力!O31,9),1))","v":""},{"$f":"IF(LEN(入力!O31)<8,\"\",LEFT(RIGHT(入力!O31,8),1))","v":""},{"$f":"IF(LEN(入力!O31)<7,\"\",LEFT(RIGHT(入力!O31,7),1))","v":""},{"$f":"IF(LEN(入力!O31)<6,\"\",LEFT(RIGHT(入力!O31,6),1))","v":""},{"$f":"IF(LEN(入力!O31)<5,\"\",LEFT(RIGHT(入力!O31,5),1))","v":""},{"$f":"IF(LEN(入力!O31)<4,\"\",LEFT(RIGHT(入力!O31,4),1))","v":""},{"$f":"IF(LEN(入力!O31)<3,\"\",LEFT(RIGHT(入力!O31,3),1))","v":""},{"$f":"IF(LEN(入力!O31)<2,\"\",LEFT(RIGHT(入力!O31,2),1))","v":""},{"$f":"IF(LEN(入力!O31)<1,\"\",LEFT(RIGHT(入力!O31,1),1))","v":""}]
[{"$f":"IF(LEN(入力!B32)<4,\"\",LEFT(RIGHT(入力!B32,4),1))","v":""},{"$f":"IF(LEN(入力!B32)<3,\"\",LEFT(RIGHT(入力!B32,3),1))","v":""},{"$f":"IF(LEN(入力!B32)<2,\"\",LEFT(RIGHT(入力!B32,2),1))","v":""},{"$f":"IF(LEN(入力!B32)<1,\"\",LEFT(RIGHT(入力!B32,1),1))","v":""},{"$f":"IF(入力!C32=0,\"\",入力!C32)","v":"消費税"},null,null,null,null,{"$f":"IF(入力!D32=0,\"\",入力!D32)","v":0.1},null,null,{"$f":"IF(入力!F32=0,\"\",入力!F32)","v":"式"},{"$f":"IF(入力!G32=0,\"\",入力!G32)","v":""},null,{"$f":"IF(入力!H32=0,\"\",入力!H32)","v":""},null,null,{"$f":"IF(LEN(入力!I32)<9,\"\",LEFT(RIGHT(入力!I32,9),1))","v":""},{"$f":"IF(LEN(入力!I32)<8,\"\",LEFT(RIGHT(入力!I32,8),1))","v":""},{"$f":"IF(LEN(入力!I32)<7,\"\",LEFT(RIGHT(入力!I32,7),1))","v":""},{"$f":"IF(LEN(入力!I32)<6,\"\",LEFT(RIGHT(入力!I32,6),1))","v":""},{"$f":"IF(LEN(入力!I32)<5,\"\",LEFT(RIGHT(入力!I32,5),1))","v":""},{"$f":"IF(LEN(入力!I32)<4,\"\",LEFT(RIGHT(入力!I32,4),1))","v":""},{"$f":"IF(LEN(入力!I32)<3,\"\",LEFT(RIGHT(入力!I32,3),1))","v":""},{"$f":"IF(LEN(入力!I32)<2,\"\",LEFT(RIGHT(入力!I32,2),1))","v":""},{"$f":"IF(LEN(入力!I32)<1,\"\",LEFT(RIGHT(入力!I32,1),1))","v":""},{"$f":"IF(入力!J32=0,\"\",入力!J32)","v":1},null,null,{"$f":"IF(LEN(入力!K32)<9,\"\",LEFT(RIGHT(入力!K32,9),1))","v":""},{"$f":"IF(LEN(入力!K32)<8,\"\",LEFT(RIGHT(入力!K32,8),1))","v":""},{"$f":"IF(LEN(入力!K32)<7,\"\",LEFT(RIGHT(入力!K32,7),1))","v":""},{"$f":"IF(LEN(入力!K32)<6,\"\",LEFT(RIGHT(入力!K32,6),1))","v":""},{"$f":"IF(LEN(入力!K32)<5,\"\",LEFT(RIGHT(入力!K32,5),1))","v":""},{"$f":"IF(LEN(入力!K32)<4,\"\",LEFT(RIGHT(入力!K32,4),1))","v":""},{"$f":"IF(LEN(入力!K32)<3,\"\",LEFT(RIGHT(入力!K32,3),1))","v":""},{"$f":"IF(LEN(入力!K32)<2,\"\",LEFT(RIGHT(入力!K32,2),1))","v":""},{"$f":"IF(LEN(入力!K32)<1,\"\",LEFT(RIGHT(入力!K32,1),1))","v":""},{"$f":"IF(入力!L32=0,\"\",入力!L32)","v":1},null,null,{"$f":"IF(LEN(入力!M32)<9,\"\",LEFT(RIGHT(入力!M32,9),1))","v":""},{"$f":"IF(LEN(入力!M32)<8,\"\",LEFT(RIGHT(入力!M32,8),1))","v":""},{"$f":"IF(LEN(入力!M32)<7,\"\",LEFT(RIGHT(入力!M32,7),1))","v":""},{"$f":"IF(LEN(入力!M32)<6,\"\",LEFT(RIGHT(入力!M32,6),1))","v":""},{"$f":"IF(LEN(入力!M32)<5,\"\",LEFT(RIGHT(入力!M32,5),1))","v":""},{"$f":"IF(LEN(入力!M32)<4,\"\",LEFT(RIGHT(入力!M32,4),1))","v":""},{"$f":"IF(LEN(入力!M32)<3,\"\",LEFT(RIGHT(入力!M32,3),1))","v":""},{"$f":"IF(LEN(入力!M32)<2,\"\",LEFT(RIGHT(入力!M32,2),1))","v":""},{"$f":"IF(LEN(入力!M32)<1,\"\",LEFT(RIGHT(入力!M32,1),1))","v":""},{"$f":"IF(入力!N32=0,\"\",入力!N32)","v":1},null,null,null,null,{"$f":"IF(LEN(入力!O32)<9,\"\",LEFT(RIGHT(入力!O32,9),1))","v":""},{"$f":"IF(LEN(入力!O32)<8,\"\",LEFT(RIGHT(入力!O32,8),1))","v":""},{"$f":"IF(LEN(入力!O32)<7,\"\",LEFT(RIGHT(入力!O32,7),1))","v":""},{"$f":"IF(LEN(入力!O32)<6,\"\",LEFT(RIGHT(入力!O32,6),1))","v":""},{"$f":"IF(LEN(入力!O32)<5,\"\",LEFT(RIGHT(入力!O32,5),1))","v":""},{"$f":"IF(LEN(入力!O32)<4,\"\",LEFT(RIGHT(入力!O32,4),1))","v":""},{"$f":"IF(LEN(入力!O32)<3,\"\",LEFT(RIGHT(入力!O32,3),1))","v":""},{"$f":"IF(LEN(入力!O32)<2,\"\",LEFT(RIGHT(入力!O32,2),1))","v":""},{"$f":"IF(LEN(入力!O32)<1,\"\",LEFT(RIGHT(入力!O32,1),1))","v":""}]
[{"$f":"IF(LEN(入力!B33)<4,\"\",LEFT(RIGHT(入力!B33,4),1))","v":""},{"$f":"IF(LEN(入力!B33)<3,\"\",LEFT(RIGHT(入力!B33,3),1))","v":""},{"$f":"IF(LEN(入力!B33)<2,\"\",LEFT(RIGHT(入力!B33,2),1))","v":""},{"$f":"IF(LEN(入力!B33)<1,\"\",LEFT(RIGHT(入力!B33,1),1))","v":""},{"$f":"IF(入力!C33=0,\"\",入力!C33)","v":"消費税"},null,null,null,null,{"$f":"IF(入力!D33=0,\"\",入力!D33)","v":"8％（軽）"},null,null,{"$f":"IF(入力!F33=0,\"\",入力!F33)","v":"式"},{"$f":"IF(入力!G33=0,\"\",入力!G33)","v":""},null,{"$f":"IF(入力!H33=0,\"\",入力!H33)","v":""},null,null,{"$f":"IF(LEN(入力!I33)<9,\"\",LEFT(RIGHT(入力!I33,9),1))","v":""},{"$f":"IF(LEN(入力!I33)<8,\"\",LEFT(RIGHT(入力!I33,8),1))","v":""},{"$f":"IF(LEN(入力!I33)<7,\"\",LEFT(RIGHT(入力!I33,7),1))","v":""},{"$f":"IF(LEN(入力!I33)<6,\"\",LEFT(RIGHT(入力!I33,6),1))","v":""},{"$f":"IF(LEN(入力!I33)<5,\"\",LEFT(RIGHT(入力!I33,5),1))","v":""},{"$f":"IF(LEN(入力!I33)<4,\"\",LEFT(RIGHT(入力!I33,4),1))","v":""},{"$f":"IF(LEN(入力!I33)<3,\"\",LEFT(RIGHT(入力!I33,3),1))","v":""},{"$f":"IF(LEN(入力!I33)<2,\"\",LEFT(RIGHT(入力!I33,2),1))","v":""},{"$f":"IF(LEN(入力!I33)<1,\"\",LEFT(RIGHT(入力!I33,1),1))","v":""},{"$f":"IF(入力!J33=0,\"\",入力!J33)","v":1},null,null,{"$f":"IF(LEN(入力!K33)<9,\"\",LEFT(RIGHT(入力!K33,9),1))","v":""},{"$f":"IF(LEN(入力!K33)<8,\"\",LEFT(RIGHT(入力!K33,8),1))","v":""},{"$f":"IF(LEN(入力!K33)<7,\"\",LEFT(RIGHT(入力!K33,7),1))","v":""},{"$f":"IF(LEN(入力!K33)<6,\"\",LEFT(RIGHT(入力!K33,6),1))","v":""},{"$f":"IF(LEN(入力!K33)<5,\"\",LEFT(RIGHT(入力!K33,5),1))","v":""},{"$f":"IF(LEN(入力!K33)<4,\"\",LEFT(RIGHT(入力!K33,4),1))","v":""},{"$f":"IF(LEN(入力!K33)<3,\"\",LEFT(RIGHT(入力!K33,3),1))","v":""},{"$f":"IF(LEN(入力!K33)<2,\"\",LEFT(RIGHT(入力!K33,2),1))","v":""},{"$f":"IF(LEN(入力!K33)<1,\"\",LEFT(RIGHT(入力!K33,1),1))","v":""},{"$f":"IF(入力!L33=0,\"\",入力!L33)","v":1},null,null,{"$f":"IF(LEN(入力!M33)<9,\"\",LEFT(RIGHT(入力!M33,9),1))","v":""},{"$f":"IF(LEN(入力!M33)<8,\"\",LEFT(RIGHT(入力!M33,8),1))","v":""},{"$f":"IF(LEN(入力!M33)<7,\"\",LEFT(RIGHT(入力!M33,7),1))","v":""},{"$f":"IF(LEN(入力!M33)<6,\"\",LEFT(RIGHT(入力!M33,6),1))","v":""},{"$f":"IF(LEN(入力!M33)<5,\"\",LEFT(RIGHT(入力!M33,5),1))","v":""},{"$f":"IF(LEN(入力!M33)<4,\"\",LEFT(RIGHT(入力!M33,4),1))","v":""},{"$f":"IF(LEN(入力!M33)<3,\"\",LEFT(RIGHT(入力!M33,3),1))","v":""},{"$f":"IF(LEN(入力!M33)<2,\"\",LEFT(RIGHT(入力!M33,2),1))","v":""},{"$f":"IF(LEN(入力!M33)<1,\"\",LEFT(RIGHT(入力!M33,1),1))","v":""},{"$f":"IF(入力!N33=0,\"\",入力!N33)","v":1},null,null,null,null,{"$f":"IF(LEN(入力!O33)<9,\"\",LEFT(RIGHT(入力!O33,9),1))","v":""},{"$f":"IF(LEN(入力!O33)<8,\"\",LEFT(RIGHT(入力!O33,8),1))","v":""},{"$f":"IF(LEN(入力!O33)<7,\"\",LEFT(RIGHT(入力!O33,7),1))","v":""},{"$f":"IF(LEN(入力!O33)<6,\"\",LEFT(RIGHT(入力!O33,6),1))","v":""},{"$f":"IF(LEN(入力!O33)<5,\"\",LEFT(RIGHT(入力!O33,5),1))","v":""},{"$f":"IF(LEN(入力!O33)<4,\"\",LEFT(RIGHT(入力!O33,4),1))","v":""},{"$f":"IF(LEN(入力!O33)<3,\"\",LEFT(RIGHT(入力!O33,3),1))","v":""},{"$f":"IF(LEN(入力!O33)<2,\"\",LEFT(RIGHT(入力!O33,2),1))","v":""},{"$f":"IF(LEN(入力!O33)<1,\"\",LEFT(RIGHT(入力!O33,1),1))","v":""}]
[{"$f":"IF(LEN(入力!B34)<4,\"\",LEFT(RIGHT(入力!B34,4),1))","v":""},{"$f":"IF(LEN(入力!B34)<3,\"\",LEFT(RIGHT(入力!B34,3),1))","v":""},{"$f":"IF(LEN(入力!B34)<2,\"\",LEFT(RIGHT(入力!B34,2),1))","v":""},{"$f":"IF(LEN(入力!B34)<1,\"\",LEFT(RIGHT(入力!B34,1),1))","v":""},{"$f":"IF(入力!C34=0,\"\",入力!C34)","v":"計"},null,null,null,null,{"$f":"IF(入力!D34=0,\"\",入力!D34)","v":""},null,null,{"$f":"IF(入力!F34=0,\"\",入力!F34)","v":""},{"$f":"IF(入力!G34=0,\"\",入力!G34)","v":""},null,{"$f":"IF(入力!H34=0,\"\",入力!H34)","v":""},null,null,{"$f":"IF(LEN(入力!I34)<9,\"\",LEFT(RIGHT(入力!I34,9),1))","v":""},{"$f":"IF(LEN(入力!I34)<8,\"\",LEFT(RIGHT(入力!I34,8),1))","v":""},{"$f":"IF(LEN(入力!I34)<7,\"\",LEFT(RIGHT(入力!I34,7),1))","v":""},{"$f":"IF(LEN(入力!I34)<6,\"\",LEFT(RIGHT(入力!I34,6),1))","v":""},{"$f":"IF(LEN(入力!I34)<5,\"\",LEFT(RIGHT(入力!I34,5),1))","v":""},{"$f":"IF(LEN(入力!I34)<4,\"\",LEFT(RIGHT(入力!I34,4),1))","v":""},{"$f":"IF(LEN(入力!I34)<3,\"\",LEFT(RIGHT(入力!I34,3),1))","v":""},{"$f":"IF(LEN(入力!I34)<2,\"\",LEFT(RIGHT(入力!I34,2),1))","v":""},{"$f":"IF(LEN(入力!I34)<1,\"\",LEFT(RIGHT(入力!I34,1),1))","v":""},{"$f":"IF(入力!J34=0,\"\",入力!J34)","v":""},null,null,{"$f":"IF(LEN(入力!K34)<9,\"\",LEFT(RIGHT(入力!K34,9),1))","v":""},{"$f":"IF(LEN(入力!K34)<8,\"\",LEFT(RIGHT(入力!K34,8),1))","v":""},{"$f":"IF(LEN(入力!K34)<7,\"\",LEFT(RIGHT(入力!K34,7),1))","v":""},{"$f":"IF(LEN(入力!K34)<6,\"\",LEFT(RIGHT(入力!K34,6),1))","v":""},{"$f":"IF(LEN(入力!K34)<5,\"\",LEFT(RIGHT(入力!K34,5),1))","v":""},{"$f":"IF(LEN(入力!K34)<4,\"\",LEFT(RIGHT(入力!K34,4),1))","v":""},{"$f":"IF(LEN(入力!K34)<3,\"\",LEFT(RIGHT(入力!K34,3),1))","v":""},{"$f":"IF(LEN(入力!K34)<2,\"\",LEFT(RIGHT(入力!K34,2),1))","v":""},{"$f":"IF(LEN(入力!K34)<1,\"\",LEFT(RIGHT(入力!K34,1),1))","v":""},{"$f":"IF(入力!L34=0,\"\",入力!L34)","v":""},null,null,{"$f":"IF(LEN(入力!M34)<9,\"\",LEFT(RIGHT(入力!M34,9),1))","v":""},{"$f":"IF(LEN(入力!M34)<8,\"\",LEFT(RIGHT(入力!M34,8),1))","v":""},{"$f":"IF(LEN(入力!M34)<7,\"\",LEFT(RIGHT(入力!M34,7),1))","v":""},{"$f":"IF(LEN(入力!M34)<6,\"\",LEFT(RIGHT(入力!M34,6),1))","v":""},{"$f":"IF(LEN(入力!M34)<5,\"\",LEFT(RIGHT(入力!M34,5),1))","v":""},{"$f":"IF(LEN(入力!M34)<4,\"\",LEFT(RIGHT(入力!M34,4),1))","v":""},{"$f":"IF(LEN(入力!M34)<3,\"\",LEFT(RIGHT(入力!M34,3),1))","v":""},{"$f":"IF(LEN(入力!M34)<2,\"\",LEFT(RIGHT(入力!M34,2),1))","v":""},{"$f":"IF(LEN(入力!M34)<1,\"\",LEFT(RIGHT(入力!M34,1),1))","v":""},{"$f":"IF(入力!N34=0,\"\",入力!N34)","v":""},null,null,null,null,{"$f":"IF(LEN(入力!O34)<9,\"\",LEFT(RIGHT(入力!O34,9),1))","v":""},{"$f":"IF(LEN(入力!O34)<8,\"\",LEFT(RIGHT(入力!O34,8),1))","v":""},{"$f":"IF(LEN(入力!O34)<7,\"\",LEFT(RIGHT(入力!O34,7),1))","v":""},{"$f":"IF(LEN(入力!O34)<6,\"\",LEFT(RIGHT(入力!O34,6),1))","v":""},{"$f":"IF(LEN(入力!O34)<5,\"\",LEFT(RIGHT(入力!O34,5),1))","v":""},{"$f":"IF(LEN(入力!O34)<4,\"\",LEFT(RIGHT(入力!O34,4),1))","v":""},{"$f":"IF(LEN(入力!O34)<3,\"\",LEFT(RIGHT(入力!O34,3),1))","v":""},{"$f":"IF(LEN(入力!O34)<2,\"\",LEFT(RIGHT(入力!O34,2),1))","v":""},{"$f":"IF(LEN(入力!O34)<1,\"\",LEFT(RIGHT(入力!O34,1),1))","v":""}]
[]
["作成時の注意事項"]
["1.請求書は3部作成し「現場提出用」「本社提出用」の2部を提出してください。"]
["2.押印はすべて冨島建設への届出印を使用し、業者用以外全てに押印してください。押印のないものは受理出来ません。"]

{"sheet":"請求書（現場控用）","index":3,"n_rows":43,"n_cols":65,"rows_kept":43,"cut":false,"hidden":false,"merged":[[3,34,3,48],[3,49,3,64],[3,19,3,33],[38,39,38,41],[36,51,36,55],[37,39,37,41],[37,51,37,55],[36,39,36,41],[38,51,38,55],[35,39,35,41],[35,51,35,55],[34,39,34,41],[34,51,34,55],[33,39,33,41],[33,51,33,55],[31,44,31,50],[37,4,37,8],[37,9,37,11],[37,13,37,14],[37,15,37,17],[37,27,37,29],[36,4,36,8],[36,9,36,11],[36,13,36,14],[36,15,36,17],[36,27,36,29],[38,4,38,8],[38,9,38,11],[38,13,38,14],[38,15,38,17],[38,27,38,29],[34,4,34,8],[34,9,34,11],[34,13,34,14],[34,15,34,17],[34,27,34,29],[35,4,35,8],[35,9,35,11],[35,13,35,14],[35,15,35,17],[35,27,35,29],[31,51,31,64],[31,42,31,43],[32,42,32,50],[32,51,32,55],[32,56,32,64],[33,4,33,8],[33,9,33,11],[33,13,33,14],[33,15,33,17],[33,27,33,29],[32,27,32,29],[32,30,32,38],[32,39,32,41],[31,0,31,11],[31,12,32,12],[31,13,32,14],[31,15,31,26],[31,27,31,38],[32,0,32,3],[32,4,32,8],[32,9,32,11],[32,15,32,17],[32,18,32,26],[28,1,29,11],[18,2,19,8],[18,9,19,26],[18,42,18,43],[23,2,24,8],[23,9,24,9],[23,10,24,10],[23,11,24,11],[23,12,24,12],[23,13,24,13],[23,14,24,14],[21,39,21,63],[23,39,23,60],[25,39,25,57],[23,15,24,15],[23,16,24,16],[7,1,8,17],[10,51,10,64],[11,1,12,13],[14,45,14,46],[16,2,16,8],[16,42,16,43],[16,44,16,45],[16,46,16,47],[16,48,16,49],[16,50,16,51],[16,52,16,53],[16,54,16,55],[16,56,16,57],[16,58,16,59],[16,60,16,61],[16,62,16,63],[26,2,26,8],[23,17,24,17],[25,2,25,8],[25,58,25,60]]}
[]
[]
[]
[null,"現 場 控 用",null,null,null,null,null,null,null,null,null,null,null,null,null,null,null,null,null,"本社",null,null,null,null,null,null,null,null,null,null,null,null,null,null,"支店",null,null,null,null,null,null,null,null,null,null,null,null,null,null,"作業所"]
[]
[]
[]
[null,"請求書"]
[]
[]
[null,null,null,null,null,null,null,null,null,null,null,null,null,null,null,null,null,null,null,null,null,null,null,null,null,null,null,null,null,null,null,null,null,null,null,null,null,null,null,null,null,null,null,null,null,null,null,null,null,null,null,{"$f":"入力!D2","v":"00:00:00"}]
[null,"株式会社 冨島建設  御中"]
[]
[null,null,null,null,null,null,null,null,null,null,null,null,null,null,null,null,null,null,null,null,null,null,null,null,null,null,null,null,null,null,null,"適格請求書発行事業者登録番号の有無"]
[null,null,"下記の通り請求いたします。",null,null,null,null,null,null,null,null,null,null,null,null,null,null,null,null,null,null,null,null,null,null,null,null,null,null,null,null,null,null,null,null,null,null,null,null,{"$f":"IF(入力!D21=\"有り\",\"■\",\"□\")","v":"□"},"有り",null,null,null,null,{"$f":"IF(入力!D21=\"無し\",\"■\",\"□\")","v":"□"},null,"無し"]
[]
[null,null,"作業所コード",null,null,null,null,null,null,{"$f":"IF(入力!D4=\"\",\"\",MID(入力!D4,1,1))","v":""},{"$f":"IF(入力!D4=\"\",\"\",MID(入力!D4,2,1))","v":""},{"$f":"IF(入力!D4=\"\",\"\",MID(入力!D4,3,1))","v":""},null,null,null,null,null,null,null,null,null,null,null,null,null,null,null,null,null,null,null,"登録番号",null,null,null,null,null,null,null,"T",{"$f":"IF(入力!E24=\"\",\"\",MID(入力!E24,1,1))","v":""},{"$f":"IF(入力!E24=\"\",\"\",MID(入力!E24,2,1))","v":""},{"$f":"IF(入力!E24=\"\",\"\",MID(入力!E24,3,1))","v":""},null,{"$f":"IF(入力!E24=\"\",\"\",MID(入力!E24,4,1))","v":""},null,{"$f":"IF(入力!E24=\"\",\"\",MID(入力!E24,5,1))","v":""},null,{"$f":"IF(入力!E24=\"\",\"\",MID(入力!E24,6,1))","v":""},null,{"$f":"IF(入力!E24=\"\",\"\",MID(入力!E24,7,1))","v":""},null,{"$f":"IF(入力!E24=\"\",\"\",MID(入力!E24,8,1))","v":""},null,{"$f":"IF(入力!E24=\"\",\"\",MID(入力!E24,9,1))","v":""},null,{"$f":"IF(入力!E24=\"\",\"\",MID(入力!E24,10,1))","v":""},null,{"$f":"IF(入力!E24=\"\",\"\",MID(入力!E24,11,1))","v":""},null,{"$f":"IF(入力!E24=\"\",\"\",MID(入力!E24,12,1))","v":""},null,{"$f":"IF(入力!E24=\"\",\"\",MID(入力!E24,13,1))","v":""}]
[]
[null,null,"作業所名",null,null,null,null,null,null,{"$f":"IF(入力!D6=\"\",\"\",入力!D6)","v":""},null,null,null,null,null,null,null,null,null,null,null,null,null,null,null,null,null,null,null,null,null,"業者コード",null,null,null,null,null,null,null,{"$f":"IF(入力!D8=\"\",\"\",MID(入力!D8,1,1))","v":""},{"$f":"IF(入力!D8=\"\",\"\",MID(入力!D8,2,1))","v":""},{"$f":"IF(入力!D8=\"\",\"\",MID(入力!D8,3,1))","v":""},{"$f":"IF(入力!D8=\"\",\"\",MID(入力!D8,4,1))","v":""}]
[]
[null,null,null,null,null,null,null,null,null,null,null,null,null,null,null,null,null,null,null,null,null,null,null,null,null,null,null,null,null,null,null,"住　　所",null,null,null,null,null,null,null,{"$f":"IF(入力!E10=\"\",\"〒　　　-　　　\",\"〒\"&入力!E10)","v":"〒　　　-　　　"}]
[null,null,null,null,null,null,null,null,null,null,null,null,null,null,null,null,null,null,null,null,null,null,null,null,null,null,null,null,null,null,null,null,null,null,null,null,null,null,null,{"$f":"IF(入力!D11=\"\",\"\",入力!D11)","v":""}]
[]
[null,null,"請求金額",null,null,null,null,null,null,{"$f":"IF(OR(入力!O34=\"\",LEN(入力!O34)<8),\"\",IF(LEN(入力!O34)=8,\"\\\",MID(入力!O34,LEN(入力!O34)-8,1)))","v":""},{"$f":"IF(OR(入力!O34=\"\",LEN(入力!O34)<7),\"\",IF(LEN(入力!O34)=7,\"\\\",MID(入力!O34,LEN(入力!O34)-7,1)))","v":""},{"$f":"IF(OR(入力!O34=\"\",LEN(入力!O34)<6),\"\",IF(LEN(入力!O34)=6,\"\\\",MID(入力!O34,LEN(入力!O34)-6,1)))","v":""},{"$f":"IF(OR(入力!O34=\"\",LEN(入力!O34)<5),\"\",IF(LEN(入力!O34)=5,\"\\\",MID(入力!O34,LEN(入力!O34)-5,1)))","v":""},{"$f":"IF(OR(入力!O34=\"\",LEN(入力!O34)<4),\"\",IF(LEN(入力!O34)=4,\"\\\",MID(入力!O34,LEN(入力!O34)-4,1)))","v":""},{"$f":"IF(OR(入力!O34=\"\",LEN(入力!O34)<3),\"\",IF(LEN(入力!O34)=3,\"\\\",MID(入力!O34,LEN(入力!O34)-3,1)))","v":""},{"$f":"IF(OR(入力!O34=\"\",LEN(入力!O34)<2),\"\",IF(LEN(入力!O34)=2,\"\\\",MID(入力!O34,LEN(入力!O34)-2,1)))","v":""},{"$f":"IF(OR(入力!O34=\"\",LEN(入力!O34)<1),\"\",IF(LEN(入力!O34)=1,\"\\\",MID(入力!O34,LEN(入力!O34)-1,1)))","v":""},{"$f":"IF(LEN(入力!O34)<1,\"\",MID(入力!O34,LEN(入力!O34),1))","v":""},null,null,null,null,null,null,null,null,null,null,null,null,null,"会 社 名",null,null,null,null,null,null,null,{"$f":"IF(入力!D13=\"\",\"\",入力!D13)","v":""}]
[]
[null,null,"うち消費税10％",null,null,null,null,null,null,{"$f":"IF(OR(入力!O32=\"\",LEN(入力!O32)<8),\"\",IF(LEN(入力!O32)=8,\"\\\",MID(入力!O32,LEN(入力!O32)-8,1)))","v":""},{"$f":"IF(OR(入力!O32=\"\",LEN(入力!O32)<7),\"\",IF(LEN(入力!O32)=7,\"\\\",MID(入力!O32,LEN(入力!O32)-7,1)))","v":""},{"$f":"IF(OR(入力!O32=\"\",LEN(入力!O32)<6),\"\",IF(LEN(入力!O32)=6,\"\\\",MID(入力!O32,LEN(入力!O32)-6,1)))","v":""},{"$f":"IF(OR(入力!O32=\"\",LEN(入力!O32)<5),\"\",IF(LEN(入力!O32)=5,\"\\\",MID(入力!O32,LEN(入力!O32)-5,1)))","v":""},{"$f":"IF(OR(入力!O32=\"\",LEN(入力!O32)<4),\"\",IF(LEN(入力!O32)=4,\"\\\",MID(入力!O32,LEN(入力!O32)-4,1)))","v":""},{"$f":"IF(OR(入力!O32=\"\",LEN(入力!O32)<3),\"\",IF(LEN(入力!O32)=3,\"\\\",MID(入力!O32,LEN(入力!O32)-3,1)))","v":""},{"$f":"IF(OR(入力!O32=\"\",LEN(入力!O32)<2),\"\",IF(LEN(入力!O32)=2,\"\\\",MID(入力!O32,LEN(入力!O32)-2,1)))","v":""},{"$f":"IF(OR(入力!O32=\"\",LEN(入力!O32)<1),\"\",IF(LEN(入力!O32)=1,\"\\\",MID(入力!O32,LEN(入力!O32)-1,1)))","v":""},{"$f":"IF(LEN(入力!O32)<1,\"\",MID(入力!O32,LEN(入力!O32),1))","v":""},null,null,null,null,null,null,null,null,null,null,null,null,null,"代表者名",null,null,null,null,null,null,null,{"$f":"IF(入力!D15=\"\",\"\",入力!D15)","v":""},null,null,null,null,null,null,null,null,null,null,null,null,null,null,null,null,null,null,"㊞"]
[null,null,"うち軽減税率8％",null,null,null,null,null,null,{"$f":"IF(OR(入力!O33=\"\",LEN(入力!O33)<8),\"\",IF(LEN(入力!O33)=8,\"\\\",MID(入力!O33,LEN(入力!O33)-8,1)))","v":""},{"$f":"IF(OR(入力!O33=\"\",LEN(入力!O33)<7),\"\",IF(LEN(入力!O33)=7,\"\\\",MID(入力!O33,LEN(入力!O33)-7,1)))","v":""},{"$f":"IF(OR(入力!O33=\"\",LEN(入力!O33)<6),\"\",IF(LEN(入力!O33)=6,\"\\\",MID(入力!O33,LEN(入力!O33)-6,1)))","v":""},{"$f":"IF(OR(入力!O33=\"\",LEN(入力!O33)<5),\"\",IF(LEN(入力!O33)=5,\"\\\",MID(入力!O33,LEN(入力!O33)-5,1)))","v":""},{"$f":"IF(OR(入力!O33=\"\",LEN(入力!O33)<4),\"\",IF(LEN(入力!O33)=4,\"\\\",MID(入力!O33,LEN(入力!O33)-4,1)))","v":""},{"$f":"IF(OR(入力!O33=\"\",LEN(入力!O33)<3),\"\",IF(LEN(入力!O33)=3,\"\\\",MID(入力!O33,LEN(入力!O33)-3,1)))","v":""},{"$f":"IF(OR(入力!O33=\"\",LEN(入力!O33)<2),\"\",IF(LEN(入力!O33)=2,\"\\\",MID(入力!O33,LEN(入力!O33)-2,1)))","v":""},{"$f":"IF(OR(入力!O33=\"\",LEN(入力!O33)<1),\"\",IF(LEN(入力!O33)=1,\"\\\",MID(入力!O33,LEN(入力!O33)-1,1)))","v":""},{"$f":"IF(LEN(入力!O33)<1,\"\",MID(入力!O33,LEN(入力!O33),1))","v":""},null,null,null,null,null,null,null,null,null,null,null,null,null,"電　　話",null,null,null,null,null,null,null,{"$f":"IF(COUNTA(入力!D17:E19)=0,\"(　　　) 　　　　 -　　　　 \",\"（\"&入力!D17&\"）\"&入力!D18&\"　-　\"&入力!D19)","v":"(　　　) 　　　　 -　　　　 "}]
[]
[null,"内訳書"]
[]
[]
["内　　　　　　　　　訳",null,null,null,null,null,null,null,null,null,null,null,"単位","単価",null,"契　　約　　額",null,null,null,null,null,null,null,null,null,null,null,"累　計　検　収　金　額",null,null,null,null,null,null,null,null,null,null,null,null,{"$f":"IF(入力!L27=\"\",\"\",MONTH(入力!L27))","v":""},"月",{"$f":"IF(入力!L27=\"\",\"\",DAY(入力!L27))","v":""},null,"日 迄検収金額",null,null,null,null,null,null,"今　回　検　収　金　額"]
["工種コード",null,null,null,"工　　種",null,null,null,null,"税　率",null,null,null,null,null,"数　量",null,null,"金　　　　額",null,null,null,null,null,null,null,null,"数　量",null,null,"金　　　　額",null,null,null,null,null,null,null,null,"数　量",null,null,"金　　　　額",null,null,null,null,null,null,null,null,"数　量",null,null,null,null,"金　　　　額"]
[{"$f":"IF(LEN(入力!B29)<4,\"\",LEFT(RIGHT(入力!B29,4),1))","v":""},{"$f":"IF(LEN(入力!B29)<3,\"\",LEFT(RIGHT(入力!B29,3),1))","v":""},{"$f":"IF(LEN(入力!B29)<2,\"\",LEFT(RIGHT(入力!B29,2),1))","v":""},{"$f":"IF(LEN(入力!B29)<1,\"\",LEFT(RIGHT(入力!B29,1),1))","v":""},{"$f":"IF(入力!C29=0,\"\",入力!C29)","v":"別紙内訳書の通り"},null,null,null,null,{"$f":"IF(入力!D29=0,\"\",入力!D29)","v":0.1},null,null,{"$f":"IF(入力!F29=0,\"\",入力!F29)","v":"式"},{"$f":"IF(入力!G29=0,\"\",入力!G29)","v":""},null,{"$f":"IF(入力!H29=0,\"\",入力!H29)","v":""},null,null,{"$f":"IF(LEN(入力!I29)<9,\"\",LEFT(RIGHT(入力!I29,9),1))","v":""},{"$f":"IF(LEN(入力!I29)<8,\"\",LEFT(RIGHT(入力!I29,8),1))","v":""},{"$f":"IF(LEN(入力!I29)<7,\"\",LEFT(RIGHT(入力!I29,7),1))","v":""},{"$f":"IF(LEN(入力!I29)<6,\"\",LEFT(RIGHT(入力!I29,6),1))","v":""},{"$f":"IF(LEN(入力!I29)<5,\"\",LEFT(RIGHT(入力!I29,5),1))","v":""},{"$f":"IF(LEN(入力!I29)<4,\"\",LEFT(RIGHT(入力!I29,4),1))","v":""},{"$f":"IF(LEN(入力!I29)<3,\"\",LEFT(RIGHT(入力!I29,3),1))","v":""},{"$f":"IF(LEN(入力!I29)<2,\"\",LEFT(RIGHT(入力!I29,2),1))","v":""},{"$f":"IF(LEN(入力!I29)<1,\"\",LEFT(RIGHT(入力!I29,1),1))","v":""},{"$f":"IF(入力!J29=0,\"\",入力!J29)","v":1},null,null,{"$f":"IF(LEN(入力!K29)<9,\"\",LEFT(RIGHT(入力!K29,9),1))","v":""},{"$f":"IF(LEN(入力!K29)<8,\"\",LEFT(RIGHT(入力!K29,8),1))","v":""},{"$f":"IF(LEN(入力!K29)<7,\"\",LEFT(RIGHT(入力!K29,7),1))","v":""},{"$f":"IF(LEN(入力!K29)<6,\"\",LEFT(RIGHT(入力!K29,6),1))","v":""},{"$f":"IF(LEN(入力!K29)<5,\"\",LEFT(RIGHT(入力!K29,5),1))","v":""},{"$f":"IF(LEN(入力!K29)<4,\"\",LEFT(RIGHT(入力!K29,4),1))","v":""},{"$f":"IF(LEN(入力!K29)<3,\"\",LEFT(RIGHT(入力!K29,3),1))","v":""},{"$f":"IF(LEN(入力!K29)<2,\"\",LEFT(RIGHT(入力!K29,2),1))","v":""},{"$f":"IF(LEN(入力!K29)<1,\"\",LEFT(RIGHT(入力!K29,1),1))","v":""},{"$f":"IF(入力!L29=0,\"\",入力!L29)","v":1},null,null,{"$f":"IF(LEN(入力!M29)<9,\"\",LEFT(RIGHT(入力!M29,9),1))","v":""},{"$f":"IF(LEN(入力!M29)<8,\"\",LEFT(RIGHT(入力!M29,8),1))","v":""},{"$f":"IF(LEN(入力!M29)<7,\"\",LEFT(RIGHT(入力!M29,7),1))","v":""},{"$f":"IF(LEN(入力!M29)<6,\"\",LEFT(RIGHT(入力!M29,6),1))","v":""},{"$f":"IF(LEN(入力!M29)<5,\"\",LEFT(RIGHT(入力!M29,5),1))","v":""},{"$f":"IF(LEN(入力!M29)<4,\"\",LEFT(RIGHT(入力!M29,4),1))","v":""},{"$f":"IF(LEN(入力!M29)<3,\"\",LEFT(RIGHT(入力!M29,3),1))","v":""},{"$f":"IF(LEN(入力!M29)<2,\"\",LEFT(RIGHT(入力!M29,2),1))","v":""},{"$f":"IF(LEN(入力!M29)<1,\"\",LEFT(RIGHT(入力!M29,1),1))","v":""},{"$f":"IF(入力!N29=0,\"\",入力!N29)","v":1},null,null,null,null,{"$f":"IF(LEN(入力!O29)<9,\"\",LEFT(RIGHT(入力!O29,9),1))","v":""},{"$f":"IF(LEN(入力!O29)<8,\"\",LEFT(RIGHT(入力!O29,8),1))","v":""},{"$f":"IF(LEN(入力!O29)<7,\"\",LEFT(RIGHT(入力!O29,7),1))","v":""},{"$f":"IF(LEN(入力!O29)<6,\"\",LEFT(RIGHT(入力!O29,6),1))","v":""},{"$f":"IF(LEN(入力!O29)<5,\"\",LEFT(RIGHT(入力!O29,5),1))","v":""},{"$f":"IF(LEN(入力!O29)<4,\"\",LEFT(RIGHT(入力!O29,4),1))","v":""},{"$f":"IF(LEN(入力!O29)<3,\"\",LEFT(RIGHT(入力!O29,3),1))","v":""},{"$f":"IF(LEN(入力!O29)<2,\"\",LEFT(RIGHT(入力!O29,2),1))","v":""},{"$f":"IF(LEN(入力!O29)<1,\"\",LEFT(RIGHT(入力!O29,1),1))","v":""}]
[{"$f":"IF(LEN(入力!B30)<4,\"\",LEFT(RIGHT(入力!B30,4),1))","v":""},{"$f":"IF(LEN(入力!B30)<3,\"\",LEFT(RIGHT(入力!B30,3),1))","v":""},{"$f":"IF(LEN(入力!B30)<2,\"\",LEFT(RIGHT(入力!B30,2),1))","v":""},{"$f":"IF(LEN(入力!B30)<1,\"\",LEFT(RIGHT(入力!B30,1),1))","v":""},{"$f":"IF(入力!C30=0,\"\",入力!C30)","v":"別紙内訳書の通り"},null,null,null,null,{"$f":"IF(入力!D30=0,\"\",入力!D30)","v":0.08},null,null,{"$f":"IF(入力!F30=0,\"\",入力!F30)","v":"式"},{"$f":"IF(入力!G30=0,\"\",入力!G30)","v":""},null,{"$f":"IF(入力!H30=0,\"\",入力!H30)","v":""},null,null,{"$f":"IF(LEN(入力!I30)<9,\"\",LEFT(RIGHT(入力!I30,9),1))","v":""},{"$f":"IF(LEN(入力!I30)<8,\"\",LEFT(RIGHT(入力!I30,8),1))","v":""},{"$f":"IF(LEN(入力!I30)<7,\"\",LEFT(RIGHT(入力!I30,7),1))","v":""},{"$f":"IF(LEN(入力!I30)<6,\"\",LEFT(RIGHT(入力!I30,6),1))","v":""},{"$f":"IF(LEN(入力!I30)<5,\"\",LEFT(RIGHT(入力!I30,5),1))","v":""},{"$f":"IF(LEN(入力!I30)<4,\"\",LEFT(RIGHT(入力!I30,4),1))","v":""},{"$f":"IF(LEN(入力!I30)<3,\"\",LEFT(RIGHT(入力!I30,3),1))","v":""},{"$f":"IF(LEN(入力!I30)<2,\"\",LEFT(RIGHT(入力!I30,2),1))","v":""},{"$f":"IF(LEN(入力!I30)<1,\"\",LEFT(RIGHT(入力!I30,1),1))","v":""},{"$f":"IF(入力!J30=0,\"\",入力!J30)","v":1},null,null,{"$f":"IF(LEN(入力!K30)<9,\"\",LEFT(RIGHT(入力!K30,9),1))","v":""},{"$f":"IF(LEN(入力!K30)<8,\"\",LEFT(RIGHT(入力!K30,8),1))","v":""},{"$f":"IF(LEN(入力!K30)<7,\"\",LEFT(RIGHT(入力!K30,7),1))","v":""},{"$f":"IF(LEN(入力!K30)<6,\"\",LEFT(RIGHT(入力!K30,6),1))","v":""},{"$f":"IF(LEN(入力!K30)<5,\"\",LEFT(RIGHT(入力!K30,5),1))","v":""},{"$f":"IF(LEN(入力!K30)<4,\"\",LEFT(RIGHT(入力!K30,4),1))","v":""},{"$f":"IF(LEN(入力!K30)<3,\"\",LEFT(RIGHT(入力!K30,3),1))","v":""},{"$f":"IF(LEN(入力!K30)<2,\"\",LEFT(RIGHT(入力!K30,2),1))","v":""},{"$f":"IF(LEN(入力!K30)<1,\"\",LEFT(RIGHT(入力!K30,1),1))","v":""},{"$f":"IF(入力!L30=0,\"\",入力!L30)","v":1},null,null,{"$f":"IF(LEN(入力!M30)<9,\"\",LEFT(RIGHT(入力!M30,9),1))","v":""},{"$f":"IF(LEN(入力!M30)<8,\"\",LEFT(RIGHT(入力!M30,8),1))","v":""},{"$f":"IF(LEN(入力!M30)<7,\"\",LEFT(RIGHT(入力!M30,7),1))","v":""},{"$f":"IF(LEN(入力!M30)<6,\"\",LEFT(RIGHT(入力!M30,6),1))","v":""},{"$f":"IF(LEN(入力!M30)<5,\"\",LEFT(RIGHT(入力!M30,5),1))","v":""},{"$f":"IF(LEN(入力!M30)<4,\"\",LEFT(RIGHT(入力!M30,4),1))","v":""},{"$f":"IF(LEN(入力!M30)<3,\"\",LEFT(RIGHT(入力!M30,3),1))","v":""},{"$f":"IF(LEN(入力!M30)<2,\"\",LEFT(RIGHT(入力!M30,2),1))","v":""},{"$f":"IF(LEN(入力!M30)<1,\"\",LEFT(RIGHT(入力!M30,1),1))","v":""},{"$f":"IF(入力!N30=0,\"\",入力!N30)","v":1},null,null,null,null,{"$f":"IF(LEN(入力!O30)<9,\"\",LEFT(RIGHT(入力!O30,9),1))","v":""},{"$f":"IF(LEN(入力!O30)<8,\"\",LEFT(RIGHT(入力!O30,8),1))","v":""},{"$f":"IF(LEN(入力!O30)<7,\"\",LEFT(RIGHT(入力!O30,7),1))","v":""},{"$f":"IF(LEN(入力!O30)<6,\"\",LEFT(RIGHT(入力!O30,6),1))","v":""},{"$f":"IF(LEN(入力!O30)<5,\"\",LEFT(RIGHT(入力!O30,5),1))","v":""},{"$f":"IF(LEN(入力!O30)<4,\"\",LEFT(RIGHT(入力!O30,4),1))","v":""},{"$f":"IF(LEN(入力!O30)<3,\"\",LEFT(RIGHT(入力!O30,3),1))","v":""},{"$f":"IF(LEN(入力!O30)<2,\"\",LEFT(RIGHT(入力!O30,2),1))","v":""},{"$f":"IF(LEN(入力!O30)<1,\"\",LEFT(RIGHT(入力!O30,1),1))","v":""}]
[{"$f":"IF(LEN(入力!B31)<4,\"\",LEFT(RIGHT(入力!B31,4),1))","v":""},{"$f":"IF(LEN(入力!B31)<3,\"\",LEFT(RIGHT(入力!B31,3),1))","v":""},{"$f":"IF(LEN(入力!B31)<2,\"\",LEFT(RIGHT(入力!B31,2),1))","v":""},{"$f":"IF(LEN(入力!B31)<1,\"\",LEFT(RIGHT(入力!B31,1),1))","v":""},{"$f":"IF(入力!C31=0,\"\",入力!C31)","v":""},null,null,null,null,{"$f":"IF(入力!D31=0,\"\",入力!D31)","v":""},null,null,{"$f":"IF(入力!F31=0,\"\",入力!F31)","v":""},{"$f":"IF(入力!G31=0,\"\",入力!G31)","v":""},null,{"$f":"IF(入力!H31=0,\"\",入力!H31)","v":""},null,null,{"$f":"IF(LEN(入力!I31)<9,\"\",LEFT(RIGHT(入力!I31,9),1))","v":""},{"$f":"IF(LEN(入力!I31)<8,\"\",LEFT(RIGHT(入力!I31,8),1))","v":""},{"$f":"IF(LEN(入力!I31)<7,\"\",LEFT(RIGHT(入力!I31,7),1))","v":""},{"$f":"IF(LEN(入力!I31)<6,\"\",LEFT(RIGHT(入力!I31,6),1))","v":""},{"$f":"IF(LEN(入力!I31)<5,\"\",LEFT(RIGHT(入力!I31,5),1))","v":""},{"$f":"IF(LEN(入力!I31)<4,\"\",LEFT(RIGHT(入力!I31,4),1))","v":""},{"$f":"IF(LEN(入力!I31)<3,\"\",LEFT(RIGHT(入力!I31,3),1))","v":""},{"$f":"IF(LEN(入力!I31)<2,\"\",LEFT(RIGHT(入力!I31,2),1))","v":""},{"$f":"IF(LEN(入力!I31)<1,\"\",LEFT(RIGHT(入力!I31,1),1))","v":""},{"$f":"IF(入力!J31=0,\"\",入力!J31)","v":""},null,null,{"$f":"IF(LEN(入力!K31)<9,\"\",LEFT(RIGHT(入力!K31,9),1))","v":""},{"$f":"IF(LEN(入力!K31)<8,\"\",LEFT(RIGHT(入力!K31,8),1))","v":""},{"$f":"IF(LEN(入力!K31)<7,\"\",LEFT(RIGHT(入力!K31,7),1))","v":""},{"$f":"IF(LEN(入力!K31)<6,\"\",LEFT(RIGHT(入力!K31,6),1))","v":""},{"$f":"IF(LEN(入力!K31)<5,\"\",LEFT(RIGHT(入力!K31,5),1))","v":""},{"$f":"IF(LEN(入力!K31)<4,\"\",LEFT(RIGHT(入力!K31,4),1))","v":""},{"$f":"IF(LEN(入力!K31)<3,\"\",LEFT(RIGHT(入力!K31,3),1))","v":""},{"$f":"IF(LEN(入力!K31)<2,\"\",LEFT(RIGHT(入力!K31,2),1))","v":""},{"$f":"IF(LEN(入力!K31)<1,\"\",LEFT(RIGHT(入力!K31,1),1))","v":""},{"$f":"IF(入力!L31=0,\"\",入力!L31)","v":""},null,null,{"$f":"IF(LEN(入力!M31)<9,\"\",LEFT(RIGHT(入力!M31,9),1))","v":""},{"$f":"IF(LEN(入力!M31)<8,\"\",LEFT(RIGHT(入力!M31,8),1))","v":""},{"$f":"IF(LEN(入力!M31)<7,\"\",LEFT(RIGHT(入力!M31,7),1))","v":""},{"$f":"IF(LEN(入力!M31)<6,\"\",LEFT(RIGHT(入力!M31,6),1))","v":""},{"$f":"IF(LEN(入力!M31)<5,\"\",LEFT(RIGHT(入力!M31,5),1))","v":""},{"$f":"IF(LEN(入力!M31)<4,\"\",LEFT(RIGHT(入力!M31,4),1))","v":""},{"$f":"IF(LEN(入力!M31)<3,\"\",LEFT(RIGHT(入力!M31,3),1))","v":""},{"$f":"IF(LEN(入力!M31)<2,\"\",LEFT(RIGHT(入力!M31,2),1))","v":""},{"$f":"IF(LEN(入力!M31)<1,\"\",LEFT(RIGHT(入力!M31,1),1))","v":""},{"$f":"IF(入力!N31=0,\"\",入力!N31)","v":""},null,null,null,null,{"$f":"IF(LEN(入力!O31)<9,\"\",LEFT(RIGHT(入力!O31,9),1))","v":""},{"$f":"IF(LEN(入力!O31)<8,\"\",LEFT(RIGHT(入力!O31,8),1))","v":""},{"$f":"IF(LEN(入力!O31)<7,\"\",LEFT(RIGHT(入力!O31,7),1))","v":""},{"$f":"IF(LEN(入力!O31)<6,\"\",LEFT(RIGHT(入力!O31,6),1))","v":""},{"$f":"IF(LEN(入力!O31)<5,\"\",LEFT(RIGHT(入力!O31,5),1))","v":""},{"$f":"IF(LEN(入力!O31)<4,\"\",LEFT(RIGHT(入力!O31,4),1))","v":""},{"$f":"IF(LEN(入力!O31)<3,\"\",LEFT(RIGHT(入力!O31,3),1))","v":""},{"$f":"IF(LEN(入力!O31)<2,\"\",LEFT(RIGHT(入力!O31,2),1))","v":""},{"$f":"IF(LEN(入力!O31)<1,\"\",LEFT(RIGHT(入力!O31,1),1))","v":""}]
[{"$f":"IF(LEN(入力!B32)<4,\"\",LEFT(RIGHT(入力!B32,4),1))","v":""},{"$f":"IF(LEN(入力!B32)<3,\"\",LEFT(RIGHT(入力!B32,3),1))","v":""},{"$f":"IF(LEN(入力!B32)<2,\"\",LEFT(RIGHT(入力!B32,2),1))","v":""},{"$f":"IF(LEN(入力!B32)<1,\"\",LEFT(RIGHT(入力!B32,1),1))","v":""},{"$f":"IF(入力!C32=0,\"\",入力!C32)","v":"消費税"},null,null,null,null,{"$f":"IF(入力!D32=0,\"\",入力!D32)","v":0.1},null,null,{"$f":"IF(入力!F32=0,\"\",入力!F32)","v":"式"},{"$f":"IF(入力!G32=0,\"\",入力!G32)","v":""},null,{"$f":"IF(入力!H32=0,\"\",入力!H32)","v":""},null,null,{"$f":"IF(LEN(入力!I32)<9,\"\",LEFT(RIGHT(入力!I32,9),1))","v":""},{"$f":"IF(LEN(入力!I32)<8,\"\",LEFT(RIGHT(入力!I32,8),1))","v":""},{"$f":"IF(LEN(入力!I32)<7,\"\",LEFT(RIGHT(入力!I32,7),1))","v":""},{"$f":"IF(LEN(入力!I32)<6,\"\",LEFT(RIGHT(入力!I32,6),1))","v":""},{"$f":"IF(LEN(入力!I32)<5,\"\",LEFT(RIGHT(入力!I32,5),1))","v":""},{"$f":"IF(LEN(入力!I32)<4,\"\",LEFT(RIGHT(入力!I32,4),1))","v":""},{"$f":"IF(LEN(入力!I32)<3,\"\",LEFT(RIGHT(入力!I32,3),1))","v":""},{"$f":"IF(LEN(入力!I32)<2,\"\",LEFT(RIGHT(入力!I32,2),1))","v":""},{"$f":"IF(LEN(入力!I32)<1,\"\",LEFT(RIGHT(入力!I32,1),1))","v":""},{"$f":"IF(入力!J32=0,\"\",入力!J32)","v":1},null,null,{"$f":"IF(LEN(入力!K32)<9,\"\",LEFT(RIGHT(入力!K32,9),1))","v":""},{"$f":"IF(LEN(入力!K32)<8,\"\",LEFT(RIGHT(入力!K32,8),1))","v":""},{"$f":"IF(LEN(入力!K32)<7,\"\",LEFT(RIGHT(入力!K32,7),1))","v":""},{"$f":"IF(LEN(入力!K32)<6,\"\",LEFT(RIGHT(入力!K32,6),1))","v":""},{"$f":"IF(LEN(入力!K32)<5,\"\",LEFT(RIGHT(入力!K32,5),1))","v":""},{"$f":"IF(LEN(入力!K32)<4,\"\",LEFT(RIGHT(入力!K32,4),1))","v":""},{"$f":"IF(LEN(入力!K32)<3,\"\",LEFT(RIGHT(入力!K32,3),1))","v":""},{"$f":"IF(LEN(入力!K32)<2,\"\",LEFT(RIGHT(入力!K32,2),1))","v":""},{"$f":"IF(LEN(入力!K32)<1,\"\",LEFT(RIGHT(入力!K32,1),1))","v":""},{"$f":"IF(入力!L32=0,\"\",入力!L32)","v":1},null,null,{"$f":"IF(LEN(入力!M32)<9,\"\",LEFT(RIGHT(入力!M32,9),1))","v":""},{"$f":"IF(LEN(入力!M32)<8,\"\",LEFT(RIGHT(入力!M32,8),1))","v":""},{"$f":"IF(LEN(入力!M32)<7,\"\",LEFT(RIGHT(入力!M32,7),1))","v":""},{"$f":"IF(LEN(入力!M32)<6,\"\",LEFT(RIGHT(入力!M32,6),1))","v":""},{"$f":"IF(LEN(入力!M32)<5,\"\",LEFT(RIGHT(入力!M32,5),1))","v":""},{"$f":"IF(LEN(入力!M32)<4,\"\",LEFT(RIGHT(入力!M32,4),1))","v":""},{"$f":"IF(LEN(入力!M32)<3,\"\",LEFT(RIGHT(入力!M32,3),1))","v":""},{"$f":"IF(LEN(入力!M32)<2,\"\",LEFT(RIGHT(入力!M32,2),1))","v":""},{"$f":"IF(LEN(入力!M32)<1,\"\",LEFT(RIGHT(入力!M32,1),1))","v":""},{"$f":"IF(入力!N32=0,\"\",入力!N32)","v":1},null,null,null,null,{"$f":"IF(LEN(入力!O32)<9,\"\",LEFT(RIGHT(入力!O32,9),1))","v":""},{"$f":"IF(LEN(入力!O32)<8,\"\",LEFT(RIGHT(入力!O32,8),1))","v":""},{"$f":"IF(LEN(入力!O32)<7,\"\",LEFT(RIGHT(入力!O32,7),1))","v":""},{"$f":"IF(LEN(入力!O32)<6,\"\",LEFT(RIGHT(入力!O32,6),1))","v":""},{"$f":"IF(LEN(入力!O32)<5,\"\",LEFT(RIGHT(入力!O32,5),1))","v":""},{"$f":"IF(LEN(入力!O32)<4,\"\",LEFT(RIGHT(入力!O32,4),1))","v":""},{"$f":"IF(LEN(入力!O32)<3,\"\",LEFT(RIGHT(入力!O32,3),1))","v":""},{"$f":"IF(LEN(入力!O32)<2,\"\",LEFT(RIGHT(入力!O32,2),1))","v":""},{"$f":"IF(LEN(入力!O32)<1,\"\",LEFT(RIGHT(入力!O32,1),1))","v":""}]
[{"$f":"IF(LEN(入力!B33)<4,\"\",LEFT(RIGHT(入力!B33,4),1))","v":""},{"$f":"IF(LEN(入力!B33)<3,\"\",LEFT(RIGHT(入力!B33,3),1))","v":""},{"$f":"IF(LEN(入力!B33)<2,\"\",LEFT(RIGHT(入力!B33,2),1))","v":""},{"$f":"IF(LEN(入力!B33)<1,\"\",LEFT(RIGHT(入力!B33,1),1))","v":""},{"$f":"IF(入力!C33=0,\"\",入力!C33)","v":"消費税"},null,null,null,null,{"$f":"IF(入力!D33=0,\"\",入力!D33)","v":"8％（軽）"},null,null,{"$f":"IF(入力!F33=0,\"\",入力!F33)","v":"式"},{"$f":"IF(入力!G33=0,\"\",入力!G33)","v":""},null,{"$f":"IF(入力!H33=0,\"\",入力!H33)","v":""},null,null,{"$f":"IF(LEN(入力!I33)<9,\"\",LEFT(RIGHT(入力!I33,9),1))","v":""},{"$f":"IF(LEN(入力!I33)<8,\"\",LEFT(RIGHT(入力!I33,8),1))","v":""},{"$f":"IF(LEN(入力!I33)<7,\"\",LEFT(RIGHT(入力!I33,7),1))","v":""},{"$f":"IF(LEN(入力!I33)<6,\"\",LEFT(RIGHT(入力!I33,6),1))","v":""},{"$f":"IF(LEN(入力!I33)<5,\"\",LEFT(RIGHT(入力!I33,5),1))","v":""},{"$f":"IF(LEN(入力!I33)<4,\"\",LEFT(RIGHT(入力!I33,4),1))","v":""},{"$f":"IF(LEN(入力!I33)<3,\"\",LEFT(RIGHT(入力!I33,3),1))","v":""},{"$f":"IF(LEN(入力!I33)<2,\"\",LEFT(RIGHT(入力!I33,2),1))","v":""},{"$f":"IF(LEN(入力!I33)<1,\"\",LEFT(RIGHT(入力!I33,1),1))","v":""},{"$f":"IF(入力!J33=0,\"\",入力!J33)","v":1},null,null,{"$f":"IF(LEN(入力!K33)<9,\"\",LEFT(RIGHT(入力!K33,9),1))","v":""},{"$f":"IF(LEN(入力!K33)<8,\"\",LEFT(RIGHT(入力!K33,8),1))","v":""},{"$f":"IF(LEN(入力!K33)<7,\"\",LEFT(RIGHT(入力!K33,7),1))","v":""},{"$f":"IF(LEN(入力!K33)<6,\"\",LEFT(RIGHT(入力!K33,6),1))","v":""},{"$f":"IF(LEN(入力!K33)<5,\"\",LEFT(RIGHT(入力!K33,5),1))","v":""},{"$f":"IF(LEN(入力!K33)<4,\"\",LEFT(RIGHT(入力!K33,4),1))","v":""},{"$f":"IF(LEN(入力!K33)<3,\"\",LEFT(RIGHT(入力!K33,3),1))","v":""},{"$f":"IF(LEN(入力!K33)<2,\"\",LEFT(RIGHT(入力!K33,2),1))","v":""},{"$f":"IF(LEN(入力!K33)<1,\"\",LEFT(RIGHT(入力!K33,1),1))","v":""},{"$f":"IF(入力!L33=0,\"\",入力!L33)","v":1},null,null,{"$f":"IF(LEN(入力!M33)<9,\"\",LEFT(RIGHT(入力!M33,9),1))","v":""},{"$f":"IF(LEN(入力!M33)<8,\"\",LEFT(RIGHT(入力!M33,8),1))","v":""},{"$f":"IF(LEN(入力!M33)<7,\"\",LEFT(RIGHT(入力!M33,7),1))","v":""},{"$f":"IF(LEN(入力!M33)<6,\"\",LEFT(RIGHT(入力!M33,6),1))","v":""},{"$f":"IF(LEN(入力!M33)<5,\"\",LEFT(RIGHT(入力!M33,5),1))","v":""},{"$f":"IF(LEN(入力!M33)<4,\"\",LEFT(RIGHT(入力!M33,4),1))","v":""},{"$f":"IF(LEN(入力!M33)<3,\"\",LEFT(RIGHT(入力!M33,3),1))","v":""},{"$f":"IF(LEN(入力!M33)<2,\"\",LEFT(RIGHT(入力!M33,2),1))","v":""},{"$f":"IF(LEN(入力!M33)<1,\"\",LEFT(RIGHT(入力!M33,1),1))","v":""},{"$f":"IF(入力!N33=0,\"\",入力!N33)","v":1},null,null,null,null,{"$f":"IF(LEN(入力!O33)<9,\"\",LEFT(RIGHT(入力!O33,9),1))","v":""},{"$f":"IF(LEN(入力!O33)<8,\"\",LEFT(RIGHT(入力!O33,8),1))","v":""},{"$f":"IF(LEN(入力!O33)<7,\"\",LEFT(RIGHT(入力!O33,7),1))","v":""},{"$f":"IF(LEN(入力!O33)<6,\"\",LEFT(RIGHT(入力!O33,6),1))","v":""},{"$f":"IF(LEN(入力!O33)<5,\"\",LEFT(RIGHT(入力!O33,5),1))","v":""},{"$f":"IF(LEN(入力!O33)<4,\"\",LEFT(RIGHT(入力!O33,4),1))","v":""},{"$f":"IF(LEN(入力!O33)<3,\"\",LEFT(RIGHT(入力!O33,3),1))","v":""},{"$f":"IF(LEN(入力!O33)<2,\"\",LEFT(RIGHT(入力!O33,2),1))","v":""},{"$f":"IF(LEN(入力!O33)<1,\"\",LEFT(RIGHT(入力!O33,1),1))","v":""}]
[{"$f":"IF(LEN(入力!B34)<4,\"\",LEFT(RIGHT(入力!B34,4),1))","v":""},{"$f":"IF(LEN(入力!B34)<3,\"\",LEFT(RIGHT(入力!B34,3),1))","v":""},{"$f":"IF(LEN(入力!B34)<2,\"\",LEFT(RIGHT(入力!B34,2),1))","v":""},{"$f":"IF(LEN(入力!B34)<1,\"\",LEFT(RIGHT(入力!B34,1),1))","v":""},{"$f":"IF(入力!C34=0,\"\",入力!C34)","v":"計"},null,null,null,null,{"$f":"IF(入力!D34=0,\"\",入力!D34)","v":""},null,null,{"$f":"IF(入力!F34=0,\"\",入力!F34)","v":""},{"$f":"IF(入力!G34=0,\"\",入力!G34)","v":""},null,{"$f":"IF(入力!H34=0,\"\",入力!H34)","v":""},null,null,{"$f":"IF(LEN(入力!I34)<9,\"\",LEFT(RIGHT(入力!I34,9),1))","v":""},{"$f":"IF(LEN(入力!I34)<8,\"\",LEFT(RIGHT(入力!I34,8),1))","v":""},{"$f":"IF(LEN(入力!I34)<7,\"\",LEFT(RIGHT(入力!I34,7),1))","v":""},{"$f":"IF(LEN(入力!I34)<6,\"\",LEFT(RIGHT(入力!I34,6),1))","v":""},{"$f":"IF(LEN(入力!I34)<5,\"\",LEFT(RIGHT(入力!I34,5),1))","v":""},{"$f":"IF(LEN(入力!I34)<4,\"\",LEFT(RIGHT(入力!I34,4),1))","v":""},{"$f":"IF(LEN(入力!I34)<3,\"\",LEFT(RIGHT(入力!I34,3),1))","v":""},{"$f":"IF(LEN(入力!I34)<2,\"\",LEFT(RIGHT(入力!I34,2),1))","v":""},{"$f":"IF(LEN(入力!I34)<1,\"\",LEFT(RIGHT(入力!I34,1),1))","v":""},{"$f":"IF(入力!J34=0,\"\",入力!J34)","v":""},null,null,{"$f":"IF(LEN(入力!K34)<9,\"\",LEFT(RIGHT(入力!K34,9),1))","v":""},{"$f":"IF(LEN(入力!K34)<8,\"\",LEFT(RIGHT(入力!K34,8),1))","v":""},{"$f":"IF(LEN(入力!K34)<7,\"\",LEFT(RIGHT(入力!K34,7),1))","v":""},{"$f":"IF(LEN(入力!K34)<6,\"\",LEFT(RIGHT(入力!K34,6),1))","v":""},{"$f":"IF(LEN(入力!K34)<5,\"\",LEFT(RIGHT(入力!K34,5),1))","v":""},{"$f":"IF(LEN(入力!K34)<4,\"\",LEFT(RIGHT(入力!K34,4),1))","v":""},{"$f":"IF(LEN(入力!K34)<3,\"\",LEFT(RIGHT(入力!K34,3),1))","v":""},{"$f":"IF(LEN(入力!K34)<2,\"\",LEFT(RIGHT(入力!K34,2),1))","v":""},{"$f":"IF(LEN(入力!K34)<1,\"\",LEFT(RIGHT(入力!K34,1),1))","v":""},{"$f":"IF(入力!L34=0,\"\",入力!L34)","v":""},null,null,{"$f":"IF(LEN(入力!M34)<9,\"\",LEFT(RIGHT(入力!M34,9),1))","v":""},{"$f":"IF(LEN(入力!M34)<8,\"\",LEFT(RIGHT(入力!M34,8),1))","v":""},{"$f":"IF(LEN(入力!M34)<7,\"\",LEFT(RIGHT(入力!M34,7),1))","v":""},{"$f":"IF(LEN(入力!M34)<6,\"\",LEFT(RIGHT(入力!M34,6),1))","v":""},{"$f":"IF(LEN(入力!M34)<5,\"\",LEFT(RIGHT(入力!M34,5),1))","v":""},{"$f":"IF(LEN(入力!M34)<4,\"\",LEFT(RIGHT(入力!M34,4),1))","v":""},{"$f":"IF(LEN(入力!M34)<3,\"\",LEFT(RIGHT(入力!M34,3),1))","v":""},{"$f":"IF(LEN(入力!M34)<2,\"\",LEFT(RIGHT(入力!M34,2),1))","v":""},{"$f":"IF(LEN(入力!M34)<1,\"\",LEFT(RIGHT(入力!M34,1),1))","v":""},{"$f":"IF(入力!N34=0,\"\",入力!N34)","v":""},null,null,null,null,{"$f":"IF(LEN(入力!O34)<9,\"\",LEFT(RIGHT(入力!O34,9),1))","v":""},{"$f":"IF(LEN(入力!O34)<8,\"\",LEFT(RIGHT(入力!O34,8),1))","v":""},{"$f":"IF(LEN(入力!O34)<7,\"\",LEFT(RIGHT(入力!O34,7),1))","v":""},{"$f":"IF(LEN(入力!O34)<6,\"\",LEFT(RIGHT(入力!O34,6),1))","v":""},{"$f":"IF(LEN(入力!O34)<5,\"\",LEFT(RIGHT(入力!O34,5),1))","v":""},{"$f":"IF(LEN(入力!O34)<4,\"\",LEFT(RIGHT(入力!O34,4),1))","v":""},{"$f":"IF(LEN(入力!O34)<3,\"\",LEFT(RIGHT(入力!O34,3),1))","v":""},{"$f":"IF(LEN(入力!O34)<2,\"\",LEFT(RIGHT(入力!O34,2),1))","v":""},{"$f":"IF(LEN(入力!O34)<1,\"\",LEFT(RIGHT(入力!O34,1),1))","v":""}]
[]
["作成時の注意事項"]
["1.請求書は3部作成し「現場提出用」「本社提出用」の2部を提出してください。"]
["2.押印はすべて冨島建設への届出印を使用し、業者用以外全てに押印してください。押印のないものは受理出来ません。"]

{"sheet":"請求書（本社提出用）","index":4,"n_rows":43,"n_cols":65,"rows_kept":43,"cut":false,"hidden":false,"merged":[[3,19,3,33],[3,34,3,48],[3,49,3,64],[38,51,38,55],[34,51,34,55],[32,51,32,55],[38,39,38,41],[36,51,36,55],[37,39,37,41],[37,51,37,55],[36,39,36,41],[35,39,35,41],[35,51,35,55],[34,39,34,41],[33,39,33,41],[33,51,33,55],[37,4,37,8],[37,9,37,11],[37,13,37,14],[37,15,37,17],[37,27,37,29],[36,4,36,8],[36,9,36,11],[36,13,36,14],[36,15,36,17],[36,27,36,29],[38,4,38,8],[38,9,38,11],[38,13,38,14],[38,15,38,17],[38,27,38,29],[34,4,34,8],[34,9,34,11],[34,13,34,14],[34,15,34,17],[34,27,34,29],[35,4,35,8],[35,9,35,11],[35,13,35,14],[35,15,35,17],[35,27,35,29],[31,44,31,50],[31,51,31,64],[31,42,31,43],[32,42,32,50],[32,56,32,64],[33,4,33,8],[33,9,33,11],[33,13,33,14],[33,15,33,17],[33,27,33,29],[32,27,32,29],[32,30,32,38],[32,39,32,41],[31,0,31,11],[31,12,32,12],[31,13,32,14],[31,15,31,26],[31,27,31,38],[32,0,32,3],[32,4,32,8],[32,9,32,11],[32,15,32,17],[32,18,32,26],[28,1,29,11],[18,2,19,8],[18,9,19,26],[18,42,18,43],[23,2,24,8],[23,9,24,9],[23,10,24,10],[23,11,24,11],[23,12,24,12],[23,13,24,13],[23,14,24,14],[25,39,25,57],[23,39,23,60],[21,39,21,63],[23,15,24,15],[23,16,24,16],[7,1,8,17],[10,51,10,64],[11,1,12,13],[14,45,14,46],[16,2,16,8],[16,42,16,43],[16,44,16,45],[16,46,16,47],[16,48,16,49],[16,50,16,51],[16,52,16,53],[16,54,16,55],[16,56,16,57],[16,58,16,59],[16,60,16,61],[16,62,16,63],[26,2,26,8],[23,17,24,17],[25,2,25,8],[25,58,25,60]]}
[]
[]
[]
[null,"本 社 提 出 用",null,null,null,null,null,null,null,null,null,null,null,null,null,null,null,null,null,"本社",null,null,null,null,null,null,null,null,null,null,null,null,null,null,"支店",null,null,null,null,null,null,null,null,null,null,null,null,null,null,"作業所"]
[]
[]
[]
[null,"請求書"]
[]
[]
[null,null,null,null,null,null,null,null,null,null,null,null,null,null,null,null,null,null,null,null,null,null,null,null,null,null,null,null,null,null,null,null,null,null,null,null,null,null,null,null,null,null,null,null,null,null,null,null,null,null,null,{"$f":"入力!D2","v":"00:00:00"}]
[null,"株式会社 冨島建設  御中"]
[]
[null,null,null,null,null,null,null,null,null,null,null,null,null,null,null,null,null,null,null,null,null,null,null,null,null,null,null,null,null,null,null,"適格請求書発行事業者登録番号の有無"]
[null,null,"下記の通り請求いたします。",null,null,null,null,null,null,null,null,null,null,null,null,null,null,null,null,null,null,null,null,null,null,null,null,null,null,null,null,null,null,null,null,null,null,null,null,{"$f":"IF(入力!D21=\"有り\",\"■\",\"□\")","v":"□"},"有り",null,null,null,null,{"$f":"IF(入力!D21=\"無し\",\"■\",\"□\")","v":"□"},null,"無し"]
[]
[null,null,"作業所コード",null,null,null,null,null,null,{"$f":"IF(入力!D4=\"\",\"\",MID(入力!D4,1,1))","v":""},{"$f":"IF(入力!D4=\"\",\"\",MID(入力!D4,2,1))","v":""},{"$f":"IF(入力!D4=\"\",\"\",MID(入力!D4,3,1))","v":""},null,null,null,null,null,null,null,null,null,null,null,null,null,null,null,null,null,null,null,"登録番号",null,null,null,null,null,null,null,"T",{"$f":"IF(入力!E24=\"\",\"\",MID(入力!E24,1,1))","v":""},{"$f":"IF(入力!E24=\"\",\"\",MID(入力!E24,2,1))","v":""},{"$f":"IF(入力!E24=\"\",\"\",MID(入力!E24,3,1))","v":""},null,{"$f":"IF(入力!E24=\"\",\"\",MID(入力!E24,4,1))","v":""},null,{"$f":"IF(入力!E24=\"\",\"\",MID(入力!E24,5,1))","v":""},null,{"$f":"IF(入力!E24=\"\",\"\",MID(入力!E24,6,1))","v":""},null,{"$f":"IF(入力!E24=\"\",\"\",MID(入力!E24,7,1))","v":""},null,{"$f":"IF(入力!E24=\"\",\"\",MID(入力!E24,8,1))","v":""},null,{"$f":"IF(入力!E24=\"\",\"\",MID(入力!E24,9,1))","v":""},null,{"$f":"IF(入力!E24=\"\",\"\",MID(入力!E24,10,1))","v":""},null,{"$f":"IF(入力!E24=\"\",\"\",MID(入力!E24,11,1))","v":""},null,{"$f":"IF(入力!E24=\"\",\"\",MID(入力!E24,12,1))","v":""},null,{"$f":"IF(入力!E24=\"\",\"\",MID(入力!E24,13,1))","v":""}]
[]
[null,null,"作業所名",null,null,null,null,null,null,{"$f":"IF(入力!D6=\"\",\"\",入力!D6)","v":""},null,null,null,null,null,null,null,null,null,null,null,null,null,null,null,null,null,null,null,null,null,"業者コード",null,null,null,null,null,null,null,{"$f":"IF(入力!D8=\"\",\"\",MID(入力!D8,1,1))","v":""},{"$f":"IF(入力!D8=\"\",\"\",MID(入力!D8,2,1))","v":""},{"$f":"IF(入力!D8=\"\",\"\",MID(入力!D8,3,1))","v":""},{"$f":"IF(入力!D8=\"\",\"\",MID(入力!D8,4,1))","v":""}]
[]
[null,null,null,null,null,null,null,null,null,null,null,null,null,null,null,null,null,null,null,null,null,null,null,null,null,null,null,null,null,null,null,"住　　所",null,null,null,null,null,null,null,{"$f":"IF(入力!E10=\"\",\"〒　　　-　　　\",\"〒\"&入力!E10)","v":"〒　　　-　　　"}]
[null,null,null,null,null,null,null,null,null,null,null,null,null,null,null,null,null,null,null,null,null,null,null,null,null,null,null,null,null,null,null,null,null,null,null,null,null,null,null,{"$f":"IF(入力!D11=\"\",\"\",入力!D11)","v":""}]
[]
[null,null,"請求金額",null,null,null,null,null,null,{"$f":"IF(OR(入力!O34=\"\",LEN(入力!O34)<8),\"\",IF(LEN(入力!O34)=8,\"\\\",MID(入力!O34,LEN(入力!O34)-8,1)))","v":""},{"$f":"IF(OR(入力!O34=\"\",LEN(入力!O34)<7),\"\",IF(LEN(入力!O34)=7,\"\\\",MID(入力!O34,LEN(入力!O34)-7,1)))","v":""},{"$f":"IF(OR(入力!O34=\"\",LEN(入力!O34)<6),\"\",IF(LEN(入力!O34)=6,\"\\\",MID(入力!O34,LEN(入力!O34)-6,1)))","v":""},{"$f":"IF(OR(入力!O34=\"\",LEN(入力!O34)<5),\"\",IF(LEN(入力!O34)=5,\"\\\",MID(入力!O34,LEN(入力!O34)-5,1)))","v":""},{"$f":"IF(OR(入力!O34=\"\",LEN(入力!O34)<4),\"\",IF(LEN(入力!O34)=4,\"\\\",MID(入力!O34,LEN(入力!O34)-4,1)))","v":""},{"$f":"IF(OR(入力!O34=\"\",LEN(入力!O34)<3),\"\",IF(LEN(入力!O34)=3,\"\\\",MID(入力!O34,LEN(入力!O34)-3,1)))","v":""},{"$f":"IF(OR(入力!O34=\"\",LEN(入力!O34)<2),\"\",IF(LEN(入力!O34)=2,\"\\\",MID(入力!O34,LEN(入力!O34)-2,1)))","v":""},{"$f":"IF(OR(入力!O34=\"\",LEN(入力!O34)<1),\"\",IF(LEN(入力!O34)=1,\"\\\",MID(入力!O34,LEN(入力!O34)-1,1)))","v":""},{"$f":"IF(LEN(入力!O34)<1,\"\",MID(入力!O34,LEN(入力!O34),1))","v":""},null,null,null,null,null,null,null,null,null,null,null,null,null,"会 社 名",null,null,null,null,null,null,null,{"$f":"IF(入力!D13=\"\",\"\",入力!D13)","v":""}]
[]
[null,null,"うち消費税10％",null,null,null,null,null,null,{"$f":"IF(OR(入力!O32=\"\",LEN(入力!O32)<8),\"\",IF(LEN(入力!O32)=8,\"\\\",MID(入力!O32,LEN(入力!O32)-8,1)))","v":""},{"$f":"IF(OR(入力!O32=\"\",LEN(入力!O32)<7),\"\",IF(LEN(入力!O32)=7,\"\\\",MID(入力!O32,LEN(入力!O32)-7,1)))","v":""},{"$f":"IF(OR(入力!O32=\"\",LEN(入力!O32)<6),\"\",IF(LEN(入力!O32)=6,\"\\\",MID(入力!O32,LEN(入力!O32)-6,1)))","v":""},{"$f":"IF(OR(入力!O32=\"\",LEN(入力!O32)<5),\"\",IF(LEN(入力!O32)=5,\"\\\",MID(入力!O32,LEN(入力!O32)-5,1)))","v":""},{"$f":"IF(OR(入力!O32=\"\",LEN(入力!O32)<4),\"\",IF(LEN(入力!O32)=4,\"\\\",MID(入力!O32,LEN(入力!O32)-4,1)))","v":""},{"$f":"IF(OR(入力!O32=\"\",LEN(入力!O32)<3),\"\",IF(LEN(入力!O32)=3,\"\\\",MID(入力!O32,LEN(入力!O32)-3,1)))","v":""},{"$f":"IF(OR(入力!O32=\"\",LEN(入力!O32)<2),\"\",IF(LEN(入力!O32)=2,\"\\\",MID(入力!O32,LEN(入力!O32)-2,1)))","v":""},{"$f":"IF(OR(入力!O32=\"\",LEN(入力!O32)<1),\"\",IF(LEN(入力!O32)=1,\"\\\",MID(入力!O32,LEN(入力!O32)-1,1)))","v":""},{"$f":"IF(LEN(入力!O32)<1,\"\",MID(入力!O32,LEN(入力!O32),1))","v":""},null,null,null,null,null,null,null,null,null,null,null,null,null,"代表者名",null,null,null,null,null,null,null,{"$f":"IF(入力!D15=\"\",\"\",入力!D15)","v":""},null,null,null,null,null,null,null,null,null,null,null,null,null,null,null,null,null,null,"㊞"]
[null,null,"うち軽減税率8％",null,null,null,null,null,null,{"$f":"IF(OR(入力!O33=\"\",LEN(入力!O33)<8),\"\",IF(LEN(入力!O33)=8,\"\\\",MID(入力!O33,LEN(入力!O33)-8,1)))","v":""},{"$f":"IF(OR(入力!O33=\"\",LEN(入力!O33)<7),\"\",IF(LEN(入力!O33)=7,\"\\\",MID(入力!O33,LEN(入力!O33)-7,1)))","v":""},{"$f":"IF(OR(入力!O33=\"\",LEN(入力!O33)<6),\"\",IF(LEN(入力!O33)=6,\"\\\",MID(入力!O33,LEN(入力!O33)-6,1)))","v":""},{"$f":"IF(OR(入力!O33=\"\",LEN(入力!O33)<5),\"\",IF(LEN(入力!O33)=5,\"\\\",MID(入力!O33,LEN(入力!O33)-5,1)))","v":""},{"$f":"IF(OR(入力!O33=\"\",LEN(入力!O33)<4),\"\",IF(LEN(入力!O33)=4,\"\\\",MID(入力!O33,LEN(入力!O33)-4,1)))","v":""},{"$f":"IF(OR(入力!O33=\"\",LEN(入力!O33)<3),\"\",IF(LEN(入力!O33)=3,\"\\\",MID(入力!O33,LEN(入力!O33)-3,1)))","v":""},{"$f":"IF(OR(入力!O33=\"\",LEN(入力!O33)<2),\"\",IF(LEN(入力!O33)=2,\"\\\",MID(入力!O33,LEN(入力!O33)-2,1)))","v":""},{"$f":"IF(OR(入力!O33=\"\",LEN(入力!O33)<1),\"\",IF(LEN(入力!O33)=1,\"\\\",MID(入力!O33,LEN(入力!O33)-1,1)))","v":""},{"$f":"IF(LEN(入力!O33)<1,\"\",MID(入力!O33,LEN(入力!O33),1))","v":""},null,null,null,null,null,null,null,null,null,null,null,null,null,"電　　話",null,null,null,null,null,null,null,{"$f":"IF(COUNTA(入力!D17:E19)=0,\"(　　　) 　　　　 -　　　　 \",\"（\"&入力!D17&\"）\"&入力!D18&\"　-　\"&入力!D19)","v":"(　　　) 　　　　 -　　　　 "}]
[]
[null,"内訳書"]
[]
[]
["内　　　　　　　　　訳",null,null,null,null,null,null,null,null,null,null,null,"単位","単価",null,"契　　約　　額",null,null,null,null,null,null,null,null,null,null,null,"累　計　検　収　金　額",null,null,null,null,null,null,null,null,null,null,null,null,{"$f":"IF(入力!L27=\"\",\"\",MONTH(入力!L27))","v":""},"月",{"$f":"IF(入力!L27=\"\",\"\",DAY(入力!L27))","v":""},null,"日 迄検収金額",null,null,null,null,null,null,"今　回　検　収　金　額"]
["工種コード",null,null,null,"工　　種",null,null,null,null,"税　率",null,null,null,null,null,"数　量",null,null,"金　　　　額",null,null,null,null,null,null,null,null,"数　量",null,null,"金　　　　額",null,null,null,null,null,null,null,null,"数　量",null,null,"金　　　　額",null,null,null,null,null,null,null,null,"数　量",null,null,null,null,"金　　　　額"]
[{"$f":"IF(LEN(入力!B29)<4,\"\",LEFT(RIGHT(入力!B29,4),1))","v":""},{"$f":"IF(LEN(入力!B29)<3,\"\",LEFT(RIGHT(入力!B29,3),1))","v":""},{"$f":"IF(LEN(入力!B29)<2,\"\",LEFT(RIGHT(入力!B29,2),1))","v":""},{"$f":"IF(LEN(入力!B29)<1,\"\",LEFT(RIGHT(入力!B29,1),1))","v":""},{"$f":"IF(入力!C29=0,\"\",入力!C29)","v":"別紙内訳書の通り"},null,null,null,null,{"$f":"IF(入力!D29=0,\"\",入力!D29)","v":0.1},null,null,{"$f":"IF(入力!F29=0,\"\",入力!F29)","v":"式"},{"$f":"IF(入力!G29=0,\"\",入力!G29)","v":""},null,{"$f":"IF(入力!H29=0,\"\",入力!H29)","v":""},null,null,{"$f":"IF(LEN(入力!I29)<9,\"\",LEFT(RIGHT(入力!I29,9),1))","v":""},{"$f":"IF(LEN(入力!I29)<8,\"\",LEFT(RIGHT(入力!I29,8),1))","v":""},{"$f":"IF(LEN(入力!I29)<7,\"\",LEFT(RIGHT(入力!I29,7),1))","v":""},{"$f":"IF(LEN(入力!I29)<6,\"\",LEFT(RIGHT(入力!I29,6),1))","v":""},{"$f":"IF(LEN(入力!I29)<5,\"\",LEFT(RIGHT(入力!I29,5),1))","v":""},{"$f":"IF(LEN(入力!I29)<4,\"\",LEFT(RIGHT(入力!I29,4),1))","v":""},{"$f":"IF(LEN(入力!I29)<3,\"\",LEFT(RIGHT(入力!I29,3),1))","v":""},{"$f":"IF(LEN(入力!I29)<2,\"\",LEFT(RIGHT(入力!I29,2),1))","v":""},{"$f":"IF(LEN(入力!I29)<1,\"\",LEFT(RIGHT(入力!I29,1),1))","v":""},{"$f":"IF(入力!J29=0,\"\",入力!J29)","v":1},null,null,{"$f":"IF(LEN(入力!K29)<9,\"\",LEFT(RIGHT(入力!K29,9),1))","v":""},{"$f":"IF(LEN(入力!K29)<8,\"\",LEFT(RIGHT(入力!K29,8),1))","v":""},{"$f":"IF(LEN(入力!K29)<7,\"\",LEFT(RIGHT(入力!K29,7),1))","v":""},{"$f":"IF(LEN(入力!K29)<6,\"\",LEFT(RIGHT(入力!K29,6),1))","v":""},{"$f":"IF(LEN(入力!K29)<5,\"\",LEFT(RIGHT(入力!K29,5),1))","v":""},{"$f":"IF(LEN(入力!K29)<4,\"\",LEFT(RIGHT(入力!K29,4),1))","v":""},{"$f":"IF(LEN(入力!K29)<3,\"\",LEFT(RIGHT(入力!K29,3),1))","v":""},{"$f":"IF(LEN(入力!K29)<2,\"\",LEFT(RIGHT(入力!K29,2),1))","v":""},{"$f":"IF(LEN(入力!K29)<1,\"\",LEFT(RIGHT(入力!K29,1),1))","v":""},{"$f":"IF(入力!L29=0,\"\",入力!L29)","v":1},null,null,{"$f":"IF(LEN(入力!M29)<9,\"\",LEFT(RIGHT(入力!M29,9),1))","v":""},{"$f":"IF(LEN(入力!M29)<8,\"\",LEFT(RIGHT(入力!M29,8),1))","v":""},{"$f":"IF(LEN(入力!M29)<7,\"\",LEFT(RIGHT(入力!M29,7),1))","v":""},{"$f":"IF(LEN(入力!M29)<6,\"\",LEFT(RIGHT(入力!M29,6),1))","v":""},{"$f":"IF(LEN(入力!M29)<5,\"\",LEFT(RIGHT(入力!M29,5),1))","v":""},{"$f":"IF(LEN(入力!M29)<4,\"\",LEFT(RIGHT(入力!M29,4),1))","v":""},{"$f":"IF(LEN(入力!M29)<3,\"\",LEFT(RIGHT(入力!M29,3),1))","v":""},{"$f":"IF(LEN(入力!M29)<2,\"\",LEFT(RIGHT(入力!M29,2),1))","v":""},{"$f":"IF(LEN(入力!M29)<1,\"\",LEFT(RIGHT(入力!M29,1),1))","v":""},{"$f":"IF(入力!N29=0,\"\",入力!N29)","v":1},null,null,null,null,{"$f":"IF(LEN(入力!O29)<9,\"\",LEFT(RIGHT(入力!O29,9),1))","v":""},{"$f":"IF(LEN(入力!O29)<8,\"\",LEFT(RIGHT(入力!O29,8),1))","v":""},{"$f":"IF(LEN(入力!O29)<7,\"\",LEFT(RIGHT(入力!O29,7),1))","v":""},{"$f":"IF(LEN(入力!O29)<6,\"\",LEFT(RIGHT(入力!O29,6),1))","v":""},{"$f":"IF(LEN(入力!O29)<5,\"\",LEFT(RIGHT(入力!O29,5),1))","v":""},{"$f":"IF(LEN(入力!O29)<4,\"\",LEFT(RIGHT(入力!O29,4),1))","v":""},{"$f":"IF(LEN(入力!O29)<3,\"\",LEFT(RIGHT(入力!O29,3),1))","v":""},{"$f":"IF(LEN(入力!O29)<2,\"\",LEFT(RIGHT(入力!O29,2),1))","v":""},{"$f":"IF(LEN(入力!O29)<1,\"\",LEFT(RIGHT(入力!O29,1),1))","v":""}]
[{"$f":"IF(LEN(入力!B30)<4,\"\",LEFT(RIGHT(入力!B30,4),1))","v":""},{"$f":"IF(LEN(入力!B30)<3,\"\",LEFT(RIGHT(入力!B30,3),1))","v":""},{"$f":"IF(LEN(入力!B30)<2,\"\",LEFT(RIGHT(入力!B30,2),1))","v":""},{"$f":"IF(LEN(入力!B30)<1,\"\",LEFT(RIGHT(入力!B30,1),1))","v":""},{"$f":"IF(入力!C30=0,\"\",入力!C30)","v":"別紙内訳書の通り"},null,null,null,null,{"$f":"IF(入力!D30=0,\"\",入力!D30)","v":0.08},null,null,{"$f":"IF(入力!F30=0,\"\",入力!F30)","v":"式"},{"$f":"IF(入力!G30=0,\"\",入力!G30)","v":""},null,{"$f":"IF(入力!H30=0,\"\",入力!H30)","v":""},null,null,{"$f":"IF(LEN(入力!I30)<9,\"\",LEFT(RIGHT(入力!I30,9),1))","v":""},{"$f":"IF(LEN(入力!I30)<8,\"\",LEFT(RIGHT(入力!I30,8),1))","v":""},{"$f":"IF(LEN(入力!I30)<7,\"\",LEFT(RIGHT(入力!I30,7),1))","v":""},{"$f":"IF(LEN(入力!I30)<6,\"\",LEFT(RIGHT(入力!I30,6),1))","v":""},{"$f":"IF(LEN(入力!I30)<5,\"\",LEFT(RIGHT(入力!I30,5),1))","v":""},{"$f":"IF(LEN(入力!I30)<4,\"\",LEFT(RIGHT(入力!I30,4),1))","v":""},{"$f":"IF(LEN(入力!I30)<3,\"\",LEFT(RIGHT(入力!I30,3),1))","v":""},{"$f":"IF(LEN(入力!I30)<2,\"\",LEFT(RIGHT(入力!I30,2),1))","v":""},{"$f":"IF(LEN(入力!I30)<1,\"\",LEFT(RIGHT(入力!I30,1),1))","v":""},{"$f":"IF(入力!J30=0,\"\",入力!J30)","v":1},null,null,{"$f":"IF(LEN(入力!K30)<9,\"\",LEFT(RIGHT(入力!K30,9),1))","v":""},{"$f":"IF(LEN(入力!K30)<8,\"\",LEFT(RIGHT(入力!K30,8),1))","v":""},{"$f":"IF(LEN(入力!K30)<7,\"\",LEFT(RIGHT(入力!K30,7),1))","v":""},{"$f":"IF(LEN(入力!K30)<6,\"\",LEFT(RIGHT(入力!K30,6),1))","v":""},{"$f":"IF(LEN(入力!K30)<5,\"\",LEFT(RIGHT(入力!K30,5),1))","v":""},{"$f":"IF(LEN(入力!K30)<4,\"\",LEFT(RIGHT(入力!K30,4),1))","v":""},{"$f":"IF(LEN(入力!K30)<3,\"\",LEFT(RIGHT(入力!K30,3),1))","v":""},{"$f":"IF(LEN(入力!K30)<2,\"\",LEFT(RIGHT(入力!K30,2),1))","v":""},{"$f":"IF(LEN(入力!K30)<1,\"\",LEFT(RIGHT(入力!K30,1),1))","v":""},{"$f":"IF(入力!L30=0,\"\",入力!L30)","v":1},null,null,{"$f":"IF(LEN(入力!M30)<9,\"\",LEFT(RIGHT(入力!M30,9),1))","v":""},{"$f":"IF(LEN(入力!M30)<8,\"\",LEFT(RIGHT(入力!M30,8),1))","v":""},{"$f":"IF(LEN(入力!M30)<7,\"\",LEFT(RIGHT(入力!M30,7),1))","v":""},{"$f":"IF(LEN(入力!M30)<6,\"\",LEFT(RIGHT(入力!M30,6),1))","v":""},{"$f":"IF(LEN(入力!M30)<5,\"\",LEFT(RIGHT(入力!M30,5),1))","v":""},{"$f":"IF(LEN(入力!M30)<4,\"\",LEFT(RIGHT(入力!M30,4),1))","v":""},{"$f":"IF(LEN(入力!M30)<3,\"\",LEFT(RIGHT(入力!M30,3),1))","v":""},{"$f":"IF(LEN(入力!M30)<2,\"\",LEFT(RIGHT(入力!M30,2),1))","v":""},{"$f":"IF(LEN(入力!M30)<1,\"\",LEFT(RIGHT(入力!M30,1),1))","v":""},{"$f":"IF(入力!N30=0,\"\",入力!N30)","v":1},null,null,null,null,{"$f":"IF(LEN(入力!O30)<9,\"\",LEFT(RIGHT(入力!O30,9),1))","v":""},{"$f":"IF(LEN(入力!O30)<8,\"\",LEFT(RIGHT(入力!O30,8),1))","v":""},{"$f":"IF(LEN(入力!O30)<7,\"\",LEFT(RIGHT(入力!O30,7),1))","v":""},{"$f":"IF(LEN(入力!O30)<6,\"\",LEFT(RIGHT(入力!O30,6),1))","v":""},{"$f":"IF(LEN(入力!O30)<5,\"\",LEFT(RIGHT(入力!O30,5),1))","v":""},{"$f":"IF(LEN(入力!O30)<4,\"\",LEFT(RIGHT(入力!O30,4),1))","v":""},{"$f":"IF(LEN(入力!O30)<3,\"\",LEFT(RIGHT(入力!O30,3),1))","v":""},{"$f":"IF(LEN(入力!O30)<2,\"\",LEFT(RIGHT(入力!O30,2),1))","v":""},{"$f":"IF(LEN(入力!O30)<1,\"\",LEFT(RIGHT(入力!O30,1),1))","v":""}]
[{"$f":"IF(LEN(入力!B31)<4,\"\",LEFT(RIGHT(入力!B31,4),1))","v":""},{"$f":"IF(LEN(入力!B31)<3,\"\",LEFT(RIGHT(入力!B31,3),1))","v":""},{"$f":"IF(LEN(入力!B31)<2,\"\",LEFT(RIGHT(入力!B31,2),1))","v":""},{"$f":"IF(LEN(入力!B31)<1,\"\",LEFT(RIGHT(入力!B31,1),1))","v":""},{"$f":"IF(入力!C31=0,\"\",入力!C31)","v":""},null,null,null,null,{"$f":"IF(入力!D31=0,\"\",入力!D31)","v":""},null,null,{"$f":"IF(入力!F31=0,\"\",入力!F31)","v":""},{"$f":"IF(入力!G31=0,\"\",入力!G31)","v":""},null,{"$f":"IF(入力!H31=0,\"\",入力!H31)","v":""},null,null,{"$f":"IF(LEN(入力!I31)<9,\"\",LEFT(RIGHT(入力!I31,9),1))","v":""},{"$f":"IF(LEN(入力!I31)<8,\"\",LEFT(RIGHT(入力!I31,8),1))","v":""},{"$f":"IF(LEN(入力!I31)<7,\"\",LEFT(RIGHT(入力!I31,7),1))","v":""},{"$f":"IF(LEN(入力!I31)<6,\"\",LEFT(RIGHT(入力!I31,6),1))","v":""},{"$f":"IF(LEN(入力!I31)<5,\"\",LEFT(RIGHT(入力!I31,5),1))","v":""},{"$f":"IF(LEN(入力!I31)<4,\"\",LEFT(RIGHT(入力!I31,4),1))","v":""},{"$f":"IF(LEN(入力!I31)<3,\"\",LEFT(RIGHT(入力!I31,3),1))","v":""},{"$f":"IF(LEN(入力!I31)<2,\"\",LEFT(RIGHT(入力!I31,2),1))","v":""},{"$f":"IF(LEN(入力!I31)<1,\"\",LEFT(RIGHT(入力!I31,1),1))","v":""},{"$f":"IF(入力!J31=0,\"\",入力!J31)","v":""},null,null,{"$f":"IF(LEN(入力!K31)<9,\"\",LEFT(RIGHT(入力!K31,9),1))","v":""},{"$f":"IF(LEN(入力!K31)<8,\"\",LEFT(RIGHT(入力!K31,8),1))","v":""},{"$f":"IF(LEN(入力!K31)<7,\"\",LEFT(RIGHT(入力!K31,7),1))","v":""},{"$f":"IF(LEN(入力!K31)<6,\"\",LEFT(RIGHT(入力!K31,6),1))","v":""},{"$f":"IF(LEN(入力!K31)<5,\"\",LEFT(RIGHT(入力!K31,5),1))","v":""},{"$f":"IF(LEN(入力!K31)<4,\"\",LEFT(RIGHT(入力!K31,4),1))","v":""},{"$f":"IF(LEN(入力!K31)<3,\"\",LEFT(RIGHT(入力!K31,3),1))","v":""},{"$f":"IF(LEN(入力!K31)<2,\"\",LEFT(RIGHT(入力!K31,2),1))","v":""},{"$f":"IF(LEN(入力!K31)<1,\"\",LEFT(RIGHT(入力!K31,1),1))","v":""},{"$f":"IF(入力!L31=0,\"\",入力!L31)","v":""},null,null,{"$f":"IF(LEN(入力!M31)<9,\"\",LEFT(RIGHT(入力!M31,9),1))","v":""},{"$f":"IF(LEN(入力!M31)<8,\"\",LEFT(RIGHT(入力!M31,8),1))","v":""},{"$f":"IF(LEN(入力!M31)<7,\"\",LEFT(RIGHT(入力!M31,7),1))","v":""},{"$f":"IF(LEN(入力!M31)<6,\"\",LEFT(RIGHT(入力!M31,6),1))","v":""},{"$f":"IF(LEN(入力!M31)<5,\"\",LEFT(RIGHT(入力!M31,5),1))","v":""},{"$f":"IF(LEN(入力!M31)<4,\"\",LEFT(RIGHT(入力!M31,4),1))","v":""},{"$f":"IF(LEN(入力!M31)<3,\"\",LEFT(RIGHT(入力!M31,3),1))","v":""},{"$f":"IF(LEN(入力!M31)<2,\"\",LEFT(RIGHT(入力!M31,2),1))","v":""},{"$f":"IF(LEN(入力!M31)<1,\"\",LEFT(RIGHT(入力!M31,1),1))","v":""},{"$f":"IF(入力!N31=0,\"\",入力!N31)","v":""},null,null,null,null,{"$f":"IF(LEN(入力!O31)<9,\"\",LEFT(RIGHT(入力!O31,9),1))","v":""},{"$f":"IF(LEN(入力!O31)<8,\"\",LEFT(RIGHT(入力!O31,8),1))","v":""},{"$f":"IF(LEN(入力!O31)<7,\"\",LEFT(RIGHT(入力!O31,7),1))","v":""},{"$f":"IF(LEN(入力!O31)<6,\"\",LEFT(RIGHT(入力!O31,6),1))","v":""},{"$f":"IF(LEN(入力!O31)<5,\"\",LEFT(RIGHT(入力!O31,5),1))","v":""},{"$f":"IF(LEN(入力!O31)<4,\"\",LEFT(RIGHT(入力!O31,4),1))","v":""},{"$f":"IF(LEN(入力!O31)<3,\"\",LEFT(RIGHT(入力!O31,3),1))","v":""},{"$f":"IF(LEN(入力!O31)<2,\"\",LEFT(RIGHT(入力!O31,2),1))","v":""},{"$f":"IF(LEN(入力!O31)<1,\"\",LEFT(RIGHT(入力!O31,1),1))","v":""}]
[{"$f":"IF(LEN(入力!B32)<4,\"\",LEFT(RIGHT(入力!B32,4),1))","v":""},{"$f":"IF(LEN(入力!B32)<3,\"\",LEFT(RIGHT(入力!B32,3),1))","v":""},{"$f":"IF(LEN(入力!B32)<2,\"\",LEFT(RIGHT(入力!B32,2),1))","v":""},{"$f":"IF(LEN(入力!B32)<1,\"\",LEFT(RIGHT(入力!B32,1),1))","v":""},{"$f":"IF(入力!C32=0,\"\",入力!C32)","v":"消費税"},null,null,null,null,{"$f":"IF(入力!D32=0,\"\",入力!D32)","v":0.1},null,null,{"$f":"IF(入力!F32=0,\"\",入力!F32)","v":"式"},{"$f":"IF(入力!G32=0,\"\",入力!G32)","v":""},null,{"$f":"IF(入力!H32=0,\"\",入力!H32)","v":""},null,null,{"$f":"IF(LEN(入力!I32)<9,\"\",LEFT(RIGHT(入力!I32,9),1))","v":""},{"$f":"IF(LEN(入力!I32)<8,\"\",LEFT(RIGHT(入力!I32,8),1))","v":""},{"$f":"IF(LEN(入力!I32)<7,\"\",LEFT(RIGHT(入力!I32,7),1))","v":""},{"$f":"IF(LEN(入力!I32)<6,\"\",LEFT(RIGHT(入力!I32,6),1))","v":""},{"$f":"IF(LEN(入力!I32)<5,\"\",LEFT(RIGHT(入力!I32,5),1))","v":""},{"$f":"IF(LEN(入力!I32)<4,\"\",LEFT(RIGHT(入力!I32,4),1))","v":""},{"$f":"IF(LEN(入力!I32)<3,\"\",LEFT(RIGHT(入力!I32,3),1))","v":""},{"$f":"IF(LEN(入力!I32)<2,\"\",LEFT(RIGHT(入力!I32,2),1))","v":""},{"$f":"IF(LEN(入力!I32)<1,\"\",LEFT(RIGHT(入力!I32,1),1))","v":""},{"$f":"IF(入力!J32=0,\"\",入力!J32)","v":1},null,null,{"$f":"IF(LEN(入力!K32)<9,\"\",LEFT(RIGHT(入力!K32,9),1))","v":""},{"$f":"IF(LEN(入力!K32)<8,\"\",LEFT(RIGHT(入力!K32,8),1))","v":""},{"$f":"IF(LEN(入力!K32)<7,\"\",LEFT(RIGHT(入力!K32,7),1))","v":""},{"$f":"IF(LEN(入力!K32)<6,\"\",LEFT(RIGHT(入力!K32,6),1))","v":""},{"$f":"IF(LEN(入力!K32)<5,\"\",LEFT(RIGHT(入力!K32,5),1))","v":""},{"$f":"IF(LEN(入力!K32)<4,\"\",LEFT(RIGHT(入力!K32,4),1))","v":""},{"$f":"IF(LEN(入力!K32)<3,\"\",LEFT(RIGHT(入力!K32,3),1))","v":""},{"$f":"IF(LEN(入力!K32)<2,\"\",LEFT(RIGHT(入力!K32,2),1))","v":""},{"$f":"IF(LEN(入力!K32)<1,\"\",LEFT(RIGHT(入力!K32,1),1))","v":""},{"$f":"IF(入力!L32=0,\"\",入力!L32)","v":1},null,null,{"$f":"IF(LEN(入力!M32)<9,\"\",LEFT(RIGHT(入力!M32,9),1))","v":""},{"$f":"IF(LEN(入力!M32)<8,\"\",LEFT(RIGHT(入力!M32,8),1))","v":""},{"$f":"IF(LEN(入力!M32)<7,\"\",LEFT(RIGHT(入力!M32,7),1))","v":""},{"$f":"IF(LEN(入力!M32)<6,\"\",LEFT(RIGHT(入力!M32,6),1))","v":""},{"$f":"IF(LEN(入力!M32)<5,\"\",LEFT(RIGHT(入力!M32,5),1))","v":""},{"$f":"IF(LEN(入力!M32)<4,\"\",LEFT(RIGHT(入力!M32,4),1))","v":""},{"$f":"IF(LEN(入力!M32)<3,\"\",LEFT(RIGHT(入力!M32,3),1))","v":""},{"$f":"IF(LEN(入力!M32)<2,\"\",LEFT(RIGHT(入力!M32,2),1))","v":""},{"$f":"IF(LEN(入力!M32)<1,\"\",LEFT(RIGHT(入力!M32,1),1))","v":""},{"$f":"IF(入力!N32=0,\"\",入力!N32)","v":1},null,null,null,null,{"$f":"IF(LEN(入力!O32)<9,\"\",LEFT(RIGHT(入力!O32,9),1))","v":""},{"$f":"IF(LEN(入力!O32)<8,\"\",LEFT(RIGHT(入力!O32,8),1))","v":""},{"$f":"IF(LEN(入力!O32)<7,\"\",LEFT(RIGHT(入力!O32,7),1))","v":""},{"$f":"IF(LEN(入力!O32)<6,\"\",LEFT(RIGHT(入力!O32,6),1))","v":""},{"$f":"IF(LEN(入力!O32)<5,\"\",LEFT(RIGHT(入力!O32,5),1))","v":""},{"$f":"IF(LEN(入力!O32)<4,\"\",LEFT(RIGHT(入力!O32,4),1))","v":""},{"$f":"IF(LEN(入力!O32)<3,\"\",LEFT(RIGHT(入力!O32,3),1))","v":""},{"$f":"IF(LEN(入力!O32)<2,\"\",LEFT(RIGHT(入力!O32,2),1))","v":""},{"$f":"IF(LEN(入力!O32)<1,\"\",LEFT(RIGHT(入力!O32,1),1))","v":""}]
[{"$f":"IF(LEN(入力!B33)<4,\"\",LEFT(RIGHT(入力!B33,4),1))","v":""},{"$f":"IF(LEN(入力!B33)<3,\"\",LEFT(RIGHT(入力!B33,3),1))","v":""},{"$f":"IF(LEN(入力!B33)<2,\"\",LEFT(RIGHT(入力!B33,2),1))","v":""},{"$f":"IF(LEN(入力!B33)<1,\"\",LEFT(RIGHT(入力!B33,1),1))","v":""},{"$f":"IF(入力!C33=0,\"\",入力!C33)","v":"消費税"},null,null,null,null,{"$f":"IF(入力!D33=0,\"\",入力!D33)","v":"8％（軽）"},null,null,{"$f":"IF(入力!F33=0,\"\",入力!F33)","v":"式"},{"$f":"IF(入力!G33=0,\"\",入力!G33)","v":""},null,{"$f":"IF(入力!H33=0,\"\",入力!H33)","v":""},null,null,{"$f":"IF(LEN(入力!I33)<9,\"\",LEFT(RIGHT(入力!I33,9),1))","v":""},{"$f":"IF(LEN(入力!I33)<8,\"\",LEFT(RIGHT(入力!I33,8),1))","v":""},{"$f":"IF(LEN(入力!I33)<7,\"\",LEFT(RIGHT(入力!I33,7),1))","v":""},{"$f":"IF(LEN(入力!I33)<6,\"\",LEFT(RIGHT(入力!I33,6),1))","v":""},{"$f":"IF(LEN(入力!I33)<5,\"\",LEFT(RIGHT(入力!I33,5),1))","v":""},{"$f":"IF(LEN(入力!I33)<4,\"\",LEFT(RIGHT(入力!I33,4),1))","v":""},{"$f":"IF(LEN(入力!I33)<3,\"\",LEFT(RIGHT(入力!I33,3),1))","v":""},{"$f":"IF(LEN(入力!I33)<2,\"\",LEFT(RIGHT(入力!I33,2),1))","v":""},{"$f":"IF(LEN(入力!I33)<1,\"\",LEFT(RIGHT(入力!I33,1),1))","v":""},{"$f":"IF(入力!J33=0,\"\",入力!J33)","v":1},null,null,{"$f":"IF(LEN(入力!K33)<9,\"\",LEFT(RIGHT(入力!K33,9),1))","v":""},{"$f":"IF(LEN(入力!K33)<8,\"\",LEFT(RIGHT(入力!K33,8),1))","v":""},{"$f":"IF(LEN(入力!K33)<7,\"\",LEFT(RIGHT(入力!K33,7),1))","v":""},{"$f":"IF(LEN(入力!K33)<6,\"\",LEFT(RIGHT(入力!K33,6),1))","v":""},{"$f":"IF(LEN(入力!K33)<5,\"\",LEFT(RIGHT(入力!K33,5),1))","v":""},{"$f":"IF(LEN(入力!K33)<4,\"\",LEFT(RIGHT(入力!K33,4),1))","v":""},{"$f":"IF(LEN(入力!K33)<3,\"\",LEFT(RIGHT(入力!K33,3),1))","v":""},{"$f":"IF(LEN(入力!K33)<2,\"\",LEFT(RIGHT(入力!K33,2),1))","v":""},{"$f":"IF(LEN(入力!K33)<1,\"\",LEFT(RIGHT(入力!K33,1),1))","v":""},{"$f":"IF(入力!L33=0,\"\",入力!L33)","v":1},null,null,{"$f":"IF(LEN(入力!M33)<9,\"\",LEFT(RIGHT(入力!M33,9),1))","v":""},{"$f":"IF(LEN(入力!M33)<8,\"\",LEFT(RIGHT(入力!M33,8),1))","v":""},{"$f":"IF(LEN(入力!M33)<7,\"\",LEFT(RIGHT(入力!M33,7),1))","v":""},{"$f":"IF(LEN(入力!M33)<6,\"\",LEFT(RIGHT(入力!M33,6),1))","v":""},{"$f":"IF(LEN(入力!M33)<5,\"\",LEFT(RIGHT(入力!M33,5),1))","v":""},{"$f":"IF(LEN(入力!M33)<4,\"\",LEFT(RIGHT(入力!M33,4),1))","v":""},{"$f":"IF(LEN(入力!M33)<3,\"\",LEFT(RIGHT(入力!M33,3),1))","v":""},{"$f":"IF(LEN(入力!M33)<2,\"\",LEFT(RIGHT(入力!M33,2),1))","v":""},{"$f":"IF(LEN(入力!M33)<1,\"\",LEFT(RIGHT(入力!M33,1),1))","v":""},{"$f":"IF(入力!N33=0,\"\",入力!N33)","v":1},null,null,null,null,{"$f":"IF(LEN(入力!O33)<9,\"\",LEFT(RIGHT(入力!O33,9),1))","v":""},{"$f":"IF(LEN(入力!O33)<8,\"\",LEFT(RIGHT(入力!O33,8),1))","v":""},{"$f":"IF(LEN(入力!O33)<7,\"\",LEFT(RIGHT(入力!O33,7),1))","v":""},{"$f":"IF(LEN(入力!O33)<6,\"\",LEFT(RIGHT(入力!O33,6),1))","v":""},{"$f":"IF(LEN(入力!O33)<5,\"\",LEFT(RIGHT(入力!O33,5),1))","v":""},{"$f":"IF(LEN(入力!O33)<4,\"\",LEFT(RIGHT(入力!O33,4),1))","v":""},{"$f":"IF(LEN(入力!O33)<3,\"\",LEFT(RIGHT(入力!O33,3),1))","v":""},{"$f":"IF(LEN(入力!O33)<2,\"\",LEFT(RIGHT(入力!O33,2),1))","v":""},{"$f":"IF(LEN(入力!O33)<1,\"\",LEFT(RIGHT(入力!O33,1),1))","v":""}]
[{"$f":"IF(LEN(入力!B34)<4,\"\",LEFT(RIGHT(入力!B34,4),1))","v":""},{"$f":"IF(LEN(入力!B34)<3,\"\",LEFT(RIGHT(入力!B34,3),1))","v":""},{"$f":"IF(LEN(入力!B34)<2,\"\",LEFT(RIGHT(入力!B34,2),1))","v":""},{"$f":"IF(LEN(入力!B34)<1,\"\",LEFT(RIGHT(入力!B34,1),1))","v":""},{"$f":"IF(入力!C34=0,\"\",入力!C34)","v":"計"},null,null,null,null,{"$f":"IF(入力!D34=0,\"\",入力!D34)","v":""},null,null,{"$f":"IF(入力!F34=0,\"\",入力!F34)","v":""},{"$f":"IF(入力!G34=0,\"\",入力!G34)","v":""},null,{"$f":"IF(入力!H34=0,\"\",入力!H34)","v":""},null,null,{"$f":"IF(LEN(入力!I34)<9,\"\",LEFT(RIGHT(入力!I34,9),1))","v":""},{"$f":"IF(LEN(入力!I34)<8,\"\",LEFT(RIGHT(入力!I34,8),1))","v":""},{"$f":"IF(LEN(入力!I34)<7,\"\",LEFT(RIGHT(入力!I34,7),1))","v":""},{"$f":"IF(LEN(入力!I34)<6,\"\",LEFT(RIGHT(入力!I34,6),1))","v":""},{"$f":"IF(LEN(入力!I34)<5,\"\",LEFT(RIGHT(入力!I34,5),1))","v":""},{"$f":"IF(LEN(入力!I34)<4,\"\",LEFT(RIGHT(入力!I34,4),1))","v":""},{"$f":"IF(LEN(入力!I34)<3,\"\",LEFT(RIGHT(入力!I34,3),1))","v":""},{"$f":"IF(LEN(入力!I34)<2,\"\",LEFT(RIGHT(入力!I34,2),1))","v":""},{"$f":"IF(LEN(入力!I34)<1,\"\",LEFT(RIGHT(入力!I34,1),1))","v":""},{"$f":"IF(入力!J34=0,\"\",入力!J34)","v":""},null,null,{"$f":"IF(LEN(入力!K34)<9,\"\",LEFT(RIGHT(入力!K34,9),1))","v":""},{"$f":"IF(LEN(入力!K34)<8,\"\",LEFT(RIGHT(入力!K34,8),1))","v":""},{"$f":"IF(LEN(入力!K34)<7,\"\",LEFT(RIGHT(入力!K34,7),1))","v":""},{"$f":"IF(LEN(入力!K34)<6,\"\",LEFT(RIGHT(入力!K34,6),1))","v":""},{"$f":"IF(LEN(入力!K34)<5,\"\",LEFT(RIGHT(入力!K34,5),1))","v":""},{"$f":"IF(LEN(入力!K34)<4,\"\",LEFT(RIGHT(入力!K34,4),1))","v":""},{"$f":"IF(LEN(入力!K34)<3,\"\",LEFT(RIGHT(入力!K34,3),1))","v":""},{"$f":"IF(LEN(入力!K34)<2,\"\",LEFT(RIGHT(入力!K34,2),1))","v":""},{"$f":"IF(LEN(入力!K34)<1,\"\",LEFT(RIGHT(入力!K34,1),1))","v":""},{"$f":"IF(入力!L34=0,\"\",入力!L34)","v":""},null,null,{"$f":"IF(LEN(入力!M34)<9,\"\",LEFT(RIGHT(入力!M34,9),1))","v":""},{"$f":"IF(LEN(入力!M34)<8,\"\",LEFT(RIGHT(入力!M34,8),1))","v":""},{"$f":"IF(LEN(入力!M34)<7,\"\",LEFT(RIGHT(入力!M34,7),1))","v":""},{"$f":"IF(LEN(入力!M34)<6,\"\",LEFT(RIGHT(入力!M34,6),1))","v":""},{"$f":"IF(LEN(入力!M34)<5,\"\",LEFT(RIGHT(入力!M34,5),1))","v":""},{"$f":"IF(LEN(入力!M34)<4,\"\",LEFT(RIGHT(入力!M34,4),1))","v":""},{"$f":"IF(LEN(入力!M34)<3,\"\",LEFT(RIGHT(入力!M34,3),1))","v":""},{"$f":"IF(LEN(入力!M34)<2,\"\",LEFT(RIGHT(入力!M34,2),1))","v":""},{"$f":"IF(LEN(入力!M34)<1,\"\",LEFT(RIGHT(入力!M34,1),1))","v":""},{"$f":"IF(入力!N34=0,\"\",入力!N34)","v":""},null,null,null,null,{"$f":"IF(LEN(入力!O34)<9,\"\",LEFT(RIGHT(入力!O34,9),1))","v":""},{"$f":"IF(LEN(入力!O34)<8,\"\",LEFT(RIGHT(入力!O34,8),1))","v":""},{"$f":"IF(LEN(入力!O34)<7,\"\",LEFT(RIGHT(入力!O34,7),1))","v":""},{"$f":"IF(LEN(入力!O34)<6,\"\",LEFT(RIGHT(入力!O34,6),1))","v":""},{"$f":"IF(LEN(入力!O34)<5,\"\",LEFT(RIGHT(入力!O34,5),1))","v":""},{"$f":"IF(LEN(入力!O34)<4,\"\",LEFT(RIGHT(入力!O34,4),1))","v":""},{"$f":"IF(LEN(入力!O34)<3,\"\",LEFT(RIGHT(入力!O34,3),1))","v":""},{"$f":"IF(LEN(入力!O34)<2,\"\",LEFT(RIGHT(入力!O34,2),1))","v":""},{"$f":"IF(LEN(入力!O34)<1,\"\",LEFT(RIGHT(入力!O34,1),1))","v":""}]
[]
["作成時の注意事項"]
["1.請求書は3部作成し「現場提出用」「本社提出用」の2部を提出してください。"]
["2.押印はすべて冨島建設への届出印を使用し、業者用以外全てに押印してください。押印のないものは受理出来ません。"]